BEGIN:VCALENDAR
VERSION:2.0
PRODID:-//ChamberMaster//Event Calendar 2.0//EN
METHOD:PUBLISH
X-PUBLISHED-TTL:P3D
REFRESH-INTERVAL:P3D
CALSCALE:GREGORIAN
BEGIN:VEVENT
DTSTART:20211007T153000Z
DTEND:20211007T170000Z
X-MICROSOFT-CDO-ALLDAYEVENT:FALSE
SUMMARY:Winning Influence & Customer Service
DESCRIPTION:Thursday\, October 7th 10:30AM-12:00PM (CST)\n	Winning Influence & Customer Service - featuring Jolene Watson with Clarity Coaching\n	Complimentary for Chamber executives\n	More info & registration here - http://business.saskchamber.com/events/details/cces-speaker-series-feat-jolene-watson-with-clarity-coaching-732\n\nThis event is being organized by the Chamber of Commerce Executives of SK\, which has kindly extended an invitation to CCEC members to attend.
X-ALT-DESC;FMTTYPE=text/html:<ul>\n	<li><span style="font-family:lato\;"><span style="font-size:10.0pt\;">Thursday\, October 7<sup>th</sup> 10:30AM-12:00PM (CST)</span></span></li>\n	<li><strong><span style="font-family:lato\;"><span style="font-size:10.0pt\;">Winning Influence &amp\; Customer Service </span></span></strong><span style="font-family:lato\;"><span style="font-size:10.0pt\;">- featuring Jolene Watson with Clarity Coaching</span></span></li>\n	<li><span style="font-family:lato\;"><span style="font-size:10.0pt\;">Complimentary for Chamber executives</span></span></li>\n	<li><span style="font-family:lato\;"><span style="font-size:10.0pt\;">More info &amp\; registration here - <a href="http://business.saskchamber.com/events/details/cces-speaker-series-feat-jolene-watson-with-clarity-coaching-732">http://business.saskchamber.com/events/details/cces-speaker-series-feat-jolene-watson-with-clarity-coaching-732</a></span></span></li>\n</ul>\n<span style="font-family:lato\;"><span style="font-size:10.0pt\;">This event is being organized by the Chamber of Commerce Executives of SK\, which has kindly extended an invitation to CCEC members to attend.</span></span>
LOCATION:Webinar
UID:e.1961.131
SEQUENCE:3
DTSTAMP:20260420T045846Z
URL:https://members.ccec.biz/events/details/winning-influence-customer-service-131
END:VEVENT

END:VCALENDAR
