BEGIN:VCALENDAR
VERSION:2.0
PRODID:-//ChamberMaster//Event Calendar 2.0//EN
METHOD:PUBLISH
X-PUBLISHED-TTL:P3D
REFRESH-INTERVAL:P3D
CALSCALE:GREGORIAN
BEGIN:VEVENT
DTSTART:20211018T170000Z
DTEND:20211018T180000Z
X-MICROSOFT-CDO-ALLDAYEVENT:FALSE
SUMMARY:What is Chamber Accelerator?
DESCRIPTION:New to the chamber world and still learning the ropes?\n	Interested in the basics of how to sell the chamber?\n	Interested in an onboarding tool for new hires responsible for selling the chamber?\n\nIf any of these apply to you\, then don't miss this opportunity to hear about Chamber Accelerator\, a new CCEC learning tool developed with the support of Johnston Group / Chambers Plan!\n\n\n\nChamber Accelerator can be accessed on your desktop or mobile device to learn the chamber basics. Receive prompts (like your fitbit) and spend less than 5 minutes a day when convenient for you to build your chamber knowledge base. Immediate feedback on your progress\, and it's fun!\n\n\n\nChamber Accelerator will most benefit staff involved in selling the Chamber with three or less years' experience - whether you're the CEO of a small chamber or dedicated sales staff at larger chambers.\n\n\n\nCheck out the 30 minute demo and orientation on October 18th and receive your first prompts on October 19th to start learning!\n\n\n\nNo cost to your chamber\, thanks to the generous  support of Johnston Group / Chambers Plan.
X-ALT-DESC;FMTTYPE=text/html:<ul>\n	<li>New to the chamber world and still learning the ropes?</li>\n	<li>Interested in the basics of how to sell the chamber?</li>\n	<li>Interested in an onboarding tool for new hires responsible for selling the chamber?</li>\n</ul>\nIf any of these apply to you\, then don&#39\;t miss this opportunity to hear about Chamber Accelerator\, a new CCEC learning tool developed with the support of Johnston Group / Chambers Plan!<br />\n<br />\nChamber Accelerator can be accessed on your desktop or mobile device to learn the chamber basics. Receive prompts (like your fitbit) and spend less than 5 minutes a day when convenient for you to build your chamber knowledge base. Immediate feedback on your progress\, and it&#39\;s fun!<br />\n<br />\nChamber Accelerator will most benefit staff involved in selling the Chamber with three or less years&#39\; experience - whether you&#39\;re the CEO of a small chamber or dedicated sales staff at larger chambers.<br />\n<br />\nCheck out the 30 minute demo and orientation on October 18th and receive your first prompts on October 19th to start learning!<br />\n<br />\nNo cost to your chamber\, thanks to the generous&nbsp\; support of Johnston Group / Chambers Plan.<br />\n<br />\n<br />\n<br />\n<br />\n<br />\n&nbsp\;
LOCATION:On-line
UID:e.1961.138
SEQUENCE:3
DTSTAMP:20260420T064235Z
URL:https://members.ccec.biz/events/details/what-is-chamber-accelerator-138
END:VEVENT

END:VCALENDAR
