BEGIN:VCALENDAR
VERSION:2.0
PRODID:-//ChamberMaster//Event Calendar 2.0//EN
METHOD:PUBLISH
X-PUBLISHED-TTL:P3D
REFRESH-INTERVAL:P3D
CALSCALE:GREGORIAN
BEGIN:VEVENT
DTSTART:20210226T180000Z
DTEND:20210226T190000Z
X-MICROSOFT-CDO-ALLDAYEVENT:FALSE
SUMMARY:What is Chamber Accelerator?
DESCRIPTION:New to the chamber world and still learning the ropes?\n	Interested in the basics of how to sell the chamber?\n	Interested in an onboarding tool for new hires?\n\n\n\nIf any of these apply to you\, then don't miss this opportunity to hear about Chamber Accelerator\, a new CCEC learning tool developed with the support of Johnston Group / Chambers Plan!\n\n\n\nChamber Accelerator can be accessed on your desktop or mobile device to learn the chamber basics. Receive prompts (like your fitbit) and spend less than 5 minutes a day when convenient for you to build your chamber knowledge base. Immediate feedback on your progress\, and it's fun!\n\n\n\nJoin our 30 minute demo on February 19th to check it out.\n\nThen decide if you want to sign on and start learning with Chamber Accelerator. No cost to your chamber\, thanks to the generous  support of Johnston Group / Chambers Plan.
X-ALT-DESC;FMTTYPE=text/html:<ul>\n	<li>New to the chamber world and still learning the ropes?</li>\n	<li>Interested in the basics of how to sell the chamber?</li>\n	<li>Interested in an onboarding tool for new hires?</li>\n</ul>\n<br />\nIf any of these apply to you\, then don&#39\;t miss this opportunity to hear about Chamber Accelerator\, a new CCEC learning tool developed with the support of Johnston Group / Chambers Plan!<br />\n<br />\nChamber Accelerator can be accessed on your desktop or mobile device to learn the chamber basics. Receive prompts (like your fitbit) and spend less than 5 minutes a day when convenient for you to build your chamber knowledge base. Immediate feedback on your progress\, and it&#39\;s fun!<br />\n<br />\nJoin our 30 minute demo on February 19th to check it out.<br />\nThen decide if you want to sign on and start learning with Chamber Accelerator. No cost to your chamber\, thanks to the generous&nbsp\; support of Johnston Group / Chambers Plan.<br />\n<br />\n<br />\n<br />\n<br />\n<br />\n&nbsp\;
LOCATION:On-line
UID:e.1961.112
SEQUENCE:3
DTSTAMP:20260420T180716Z
URL:https://members.ccec.biz/events/details/what-is-chamber-accelerator-112
END:VEVENT

END:VCALENDAR
