BEGIN:VCALENDAR
VERSION:2.0
PRODID:-//ChamberMaster//Event Calendar 2.0//EN
METHOD:PUBLISH
X-PUBLISHED-TTL:P3D
REFRESH-INTERVAL:P3D
CALSCALE:GREGORIAN
BEGIN:VEVENT
DTSTART:20211117T193000Z
DTEND:20211117T203000Z
X-MICROSOFT-CDO-ALLDAYEVENT:FALSE
SUMMARY:Webinar: Meeting in the Middle (a BCCE event offered to CCEC members)
DESCRIPTION:MEETING IN THE MIDDLE\n\n\n\nWe all have those members that join\, come in and churn out. We also have those large investors that are community builders and support your mission. What about the large percent of your members that fall in the middle? Do your engagement strategies impact and add value to these solid members? In this session we will talk about meeting in the middle. Let's look at the "Why" for these members\, what keeps them renewing. Leave with a better understanding of what you can do to provide an experience for your middle members.\n\n\n\nSpeaker: SHARI PASH Membership and Growth Strategist\n\nShari works with Chambers of Commerce\, non-profit organizations\, and associations in over 27 states and throughout Canada. Through her hands-on work she is changing the culture and way organizations approach membership recruitment\, engagement\, and retention. She provides a customized multi-step process and program with proven success. Client outcomes continue to excel through the implementation of foundational tools and reports that have proven success with measurements for growth. In addition to this work\, Shari conducts board of director planning sessions\, and works with non-profit organizations to develop and recruit volunteers.
X-ALT-DESC;FMTTYPE=text/html:<strong>MEETING IN THE MIDDLE</strong><br />\n<br />\nWe all have those members that join\, come in and churn out. We also have those large investors that are community builders and support your mission. What about the large percent of your members that fall in the middle? Do your engagement strategies impact and add value to these solid members? In this session we will talk about meeting in the middle. Let&rsquo\;s look at the &ldquo\;Why&rdquo\; for these members\, what keeps them renewing. Leave with a better understanding of what you can do to provide an experience for your middle members.<br />\n<br />\nSpeaker: <strong>SHARI PASH</strong> Membership and Growth Strategist<br />\nShari works with Chambers of Commerce\, non-profit organizations\, and associations in over 27 states and throughout Canada. Through her hands-on work she is changing the culture and way organizations approach membership recruitment\, engagement\, and retention. She provides a customized multi-step process and program with proven success. Client outcomes continue to excel through the implementation of foundational tools and reports that have proven success with measurements for growth. In addition to this work\, Shari conducts board of director planning sessions\, and works with non-profit organizations to develop and recruit volunteers.<br />\n<br />\n<br />\n<span style="font-size:12px\;"><span style="font-family:arial\;">&nbsp\;</span></span><br />\n&nbsp\;<br />\n<br />\n&nbsp\;<br />\n<br />\n&nbsp\;
LOCATION:BCCE Webinar
UID:e.1961.148
SEQUENCE:3
DTSTAMP:20260420T034244Z
URL:https://members.ccec.biz/events/details/webinar-meeting-in-the-middle-a-bcce-event-offered-to-ccec-members-148
END:VEVENT

END:VCALENDAR
