BEGIN:VCALENDAR
VERSION:2.0
PRODID:-//ChamberMaster//Event Calendar 2.0//EN
METHOD:PUBLISH
X-PUBLISHED-TTL:P3D
REFRESH-INTERVAL:P3D
CALSCALE:GREGORIAN
BEGIN:VEVENT
DTSTART:20200710T160000Z
DTEND:20200710T170000Z
X-MICROSOFT-CDO-ALLDAYEVENT:FALSE
SUMMARY:The Events Event
DESCRIPTION:You asked and we've responded!  If your job at the chamber is to organize events\, you won't want to miss this opportunity to connect with your peers across Canada. On July 10th\, CCEC will  hold its first "Events Event"  where chamber events staff can share experiences and challenges as they navigate new realities during COVID-19 recovery.\n\n\n\nWe're looking for people who can share their stories from the past 3 months and plans for the next six months - for example\,  if you've tested out new technology\, introduced innovative approaches to business awards or found success with sponsorship of virtual events\, please take part on July 10th.  When you register\, please indicate what experience you can share and what questions/topics you'd like to see addressed.\n\n\n\nThe event is free of charge to CCEC members but please register in order to receive connection information.
X-ALT-DESC;FMTTYPE=text/html:You asked and we&#39\;ve responded!&nbsp\; If your job at the chamber is to organize events\, you won&#39\;t want to miss this opportunity to connect with your peers across Canada. On July 10th\, CCEC will&nbsp\; hold its first <em>&quot\;Events Event&quot\;&nbsp\; </em>where chamber events staff can share experiences and challenges as they navigate new realities during COVID-19 recovery.<br />\n<br />\nWe&#39\;re looking for people who can share their stories from the past 3 months and plans for the next six months - for example\,&nbsp\; if you&#39\;ve tested out new technology\, introduced innovative approaches to business awards or found success with sponsorship of virtual events\, please take part on July 10th.&nbsp\; When you register\, please indicate what experience you can share and what questions/topics you&#39\;d like to see addressed.<br />\n<br />\nThe event is free of charge to CCEC members but please register in order to receive connection information.
LOCATION:On-line
UID:e.1961.86
SEQUENCE:3
DTSTAMP:20260421T051824Z
URL:https://members.ccec.biz/events/details/the-events-event-86
END:VEVENT

END:VCALENDAR
