BEGIN:VCALENDAR
VERSION:2.0
PRODID:-//ChamberMaster//Event Calendar 2.0//EN
METHOD:PUBLISH
X-PUBLISHED-TTL:P3D
REFRESH-INTERVAL:P3D
CALSCALE:GREGORIAN
BEGIN:VEVENT
DTSTART:20210318T180000Z
DTEND:20210318T190000Z
X-MICROSOFT-CDO-ALLDAYEVENT:FALSE
SUMMARY:Small Chambers Workshop - Create your own Stock Photography
DESCRIPTION:Webinar Description\n\nIn this webinar\, learn how to stylize a flat lay photo and create your own stock photography. You will produce digital assets that can be used for social media and customized stock photos that represent your brand. Participants will learn how to stylize a flat lay photo using branded products and what they have at home or at the office. Participants will then learn how font can be added to create customized graphics.\n\n(See examples produced by the Dauphin Chamber below)\n\n \n\nWhat's needed:\n\n- Phone or Camera\n\n- Backgrounds: Min. 1 sq ft in size. Solid\, colored\, patterned. More variety the better.\n\n- Branded Products\, Props\, Office Items\, Small objects found around the house.\n\nThis could include: Office Supplies\, Stationary\, Waterbottles\, Headphones\, Mugs\, Plants\, Clocks - small items that can be moved around.\n\n\n\nDesiree Rantala + Naltara Design Studio Description\n\nDesiree Rantala is a multi-disciplinary designer based out of Winnipeg\, Manitoba. With over ten years of combined education and professional design experience\, she is the owner of Naltara Design Studio. Naltara is a multi-faceted business that focuses on helping businesses grow their ideas through design. Using photography\, branding\, graphic design\, and education\, Naltara turns ideas into outcomes.
X-ALT-DESC;FMTTYPE=text/html:<p><strong><span style="letter-spacing:.15pt\;"><span style="color:black\;"><span style="font-family:tahoma\,sans-serif\;"><span style="font-size:10.5pt\;">Webinar Description</span></span></span></span></strong><br />\n<span style="color:black\;"><span style="font-family:tahoma\,sans-serif\;"><span style="font-size:9.0pt\;">In this webinar\, learn how to stylize a flat lay photo and create your own stock photography. You will produce digital assets that can be used for social media and customized stock photos that represent your brand.&nbsp\;Participants will learn how to stylize a flat lay photo using branded products and what they have at home or at the office. Participants will then learn how font&nbsp\;can be added to create customized graphics.</span></span></span></p>\n\n<p><span style="color:black\;"><span style="font-family:tahoma\,sans-serif\;"><span style="font-size:9.0pt\;">(See examples produced by the Dauphin Chamber below)</span></span></span><br />\n&nbsp\;<br />\n<strong><span style="color:black\;"><span style="font-family:tahoma\,sans-serif\;"><span style="font-size:9.0pt\;">What&rsquo\;s needed:</span></span></span></strong><br />\n<span style="color:black\;"><span style="font-family:tahoma\,sans-serif\;"><span style="font-size:9.0pt\;">- Phone or Camera</span></span></span><br />\n<span style="color:black\;"><span style="font-family:tahoma\,sans-serif\;"><span style="font-size:9.0pt\;">- Backgrounds: Min. 1 sq ft in size. Solid\, colored\, patterned.&nbsp\;<em>More variety the better.</em></span></span></span><br />\n<em><span style="color:black\;"><span style="font-family:tahoma\,sans-serif\;"><span style="font-size:9.0pt\;">-&nbsp\;</span></span></span></em><span style="color:black\;"><span style="font-family:tahoma\,sans-serif\;"><span style="font-size:9.0pt\;">Branded Products\, Props\, Office Items\, Small objects found around the house.</span></span></span><br />\n<span style="color:black\;"><span style="font-family:tahoma\,sans-serif\;"><span style="font-size:9.0pt\;">This could include: Office Supplies\, Stationary\, Waterbottles\, Headphones\, Mugs\, Plants\, Clocks - small items that can be moved around.</span></span></span><br />\n<br />\n<strong><span style="color:black\;"><span style="font-family:tahoma\,sans-serif\;">Desiree Rantala&nbsp\;+ Naltara Design Studio Description</span></span></strong><br />\n<span style="color:black\;"><span style="font-family:tahoma\,sans-serif\;">Desiree Rantala is a multi-disciplinary designer based out of Winnipeg\, Manitoba. With over ten years of combined education and professional design experience\, she is the owner of Naltara Design Studio. Naltara is a multi-faceted business that focuses on helping businesses grow their ideas through design. Using photography\, branding\, graphic design\, and education\, Naltara turns ideas into outcomes.</span></span><br />\n<br />\n<br />\n&nbsp\;</p>\n
LOCATION:On-line
UID:e.1961.110
SEQUENCE:3
DTSTAMP:20260420T181016Z
URL:https://members.ccec.biz/events/details/small-chambers-workshop-create-your-own-stock-photography-110
END:VEVENT

END:VCALENDAR
