BEGIN:VCALENDAR
VERSION:2.0
PRODID:-//ChamberMaster//Event Calendar 2.0//EN
METHOD:PUBLISH
X-PUBLISHED-TTL:P3D
REFRESH-INTERVAL:P3D
CALSCALE:GREGORIAN
BEGIN:VEVENT
DTSTART:20200715T180000Z
DTEND:20200715T190000Z
X-MICROSOFT-CDO-ALLDAYEVENT:FALSE
SUMMARY:Small Chambers Touch Base - a CCEC Peer Network event
DESCRIPTION:How is your Chamber doing these days?\n\n\n\nThis is an opportunity for the CEOs leading Chambers with less than 500 members to share experiences/information/best ideas on how your Chamber is rising to the challenges presented by COVID-19.\n\n\n\nWe'll discuss the Chamber recovery issues most important to you\, such as. . .\n\n- revenue replacement\n\n- membership retention\n\n- events - virtually\n\n- technology\n\n\n\nLooking for volunteers to be part of our panel to kick off discussion on these topics and anything else you want to cover. Please indicate when you register what questions you'd most like to deal with and if you would be willing to share your experiences.\n\n\n\nYour opportunity to share what's happening in small chamber communities across the country! Please join the discussion on July 15.\n\n\n\nParticipation in this event is included in your CCEC membership\, but please register in order to receive connection information.
X-ALT-DESC;FMTTYPE=text/html:How is your Chamber doing these days?<br />\n<br />\nThis is an opportunity for the CEOs leading Chambers with less than 500 members to share experiences/information/best ideas on how your Chamber is rising to the challenges presented by COVID-19.<br />\n<br />\nWe&#39\;ll discuss the Chamber recovery issues most important to you\, such as. . .<br />\n- revenue replacement<br />\n- membership retention<br />\n- events - virtually<br />\n- technology<br />\n<br />\nLooking for volunteers to be part of our panel to kick off discussion on these topics and anything else you want to cover. Please indicate when you register what questions you&#39\;d most like to deal with and if you would be willing to share your experiences.<br />\n<br />\nYour opportunity to share what&#39\;s happening in small chamber communities across the country!<strong> </strong>Please join the discussion on July 15.<br />\n<br />\nParticipation in this event is included in your CCEC membership\, but please register in order to receive connection information.<br />\n&nbsp\;
LOCATION:On-line
UID:e.1961.88
SEQUENCE:3
DTSTAMP:20260421T051138Z
URL:https://members.ccec.biz/events/details/small-chambers-touch-base-a-ccec-peer-network-event-88
END:VEVENT

END:VCALENDAR
