BEGIN:VCALENDAR
VERSION:2.0
PRODID:-//ChamberMaster//Event Calendar 2.0//EN
METHOD:PUBLISH
X-PUBLISHED-TTL:P3D
REFRESH-INTERVAL:P3D
CALSCALE:GREGORIAN
BEGIN:VEVENT
DTSTART:20220418T180000Z
DTEND:20220418T190000Z
X-MICROSOFT-CDO-ALLDAYEVENT:FALSE
SUMMARY:Small Chambers Touch Base - a CCEC Peer Network Event
DESCRIPTION:You're invited to the CCEC Small Chambers Peer Network -  an opportunity for CEOs leading Chambers with less than 500 members to connect. The agenda will be decided by those that plan to be on the call so that we can tailor the event to what's important to you.\n\n\n\nWhen you register\, please indicate the topics that you would like to see discussed or make mention of experiences that you could share for the benefit of the chamber network.
X-ALT-DESC;FMTTYPE=text/html:<p>You&#39\;re invited to the CCEC Small Chambers Peer Network -&nbsp\; an opportunity for CEOs leading Chambers with less than 500 members to connect. The agenda will be decided by those that plan to be on the call so that we can tailor the event to what&#39\;s important to you.<br />\n<br />\nWhen you register\, please indicate the topics that you would like to see discussed or make mention of experiences that you could share for the benefit of the chamber network.<br />\n<br />\n<br />\n<br />\n&nbsp\;</p>\n
LOCATION:On-line
UID:e.1961.136
SEQUENCE:3
DTSTAMP:20260419T211407Z
URL:https://members.ccec.biz/events/details/small-chambers-touch-base-a-ccec-peer-network-event-136
END:VEVENT

END:VCALENDAR
