BEGIN:VCALENDAR
VERSION:2.0
PRODID:-//ChamberMaster//Event Calendar 2.0//EN
METHOD:PUBLISH
X-PUBLISHED-TTL:P3D
REFRESH-INTERVAL:P3D
CALSCALE:GREGORIAN
BEGIN:VEVENT
DTSTART:20220124T190000Z
DTEND:20220124T200000Z
X-MICROSOFT-CDO-ALLDAYEVENT:FALSE
SUMMARY:Small Chambers Touch Base - a CCEC Peer Network Event
DESCRIPTION:You're invited to the CCEC Small Chambers Peer Network -  an opportunity for CEOs leading Chambers with less than 500 members to connect. The agenda will be decided by those that plan to be on the call so that we can tailor the event to what's important to you.\n\n\n\nIf you haven't attended before\, make it your new year's resolution to join us and meet your peers across the country doing the same job as you. It's a great way to pick up tips\, share successes and challenges.\n\n\n\nWhen you register\, please indicate the topics that you would like to see discussed or make mention of experiences that you could share for the benefit of the chamber network. Or if it's your first time\, and you just want to check it out\, that's fine too.
X-ALT-DESC;FMTTYPE=text/html:<p>You&#39\;re invited to the CCEC Small Chambers Peer Network -&nbsp\; an opportunity for CEOs leading Chambers with less than 500 members to connect. The agenda will be decided by those that plan to be on the call so that we can tailor the event to what&#39\;s important to you.<br />\n<br />\nIf you haven&#39\;t attended before\, make it your new year&#39\;s resolution to join us and meet your peers across the country doing the same job as you. It&#39\;s a great way to pick up tips\, share successes and challenges.<br />\n<br />\nWhen you register\, please indicate the topics that you would like to see discussed or make mention of experiences that you could share for the benefit of the chamber network. Or if it&#39\;s your first time\, and you just want to check it out\, that&#39\;s fine too.<br />\n<br />\n<br />\n&nbsp\;</p>\n
LOCATION:On-line
UID:e.1961.135
SEQUENCE:3
DTSTAMP:20260420T003331Z
URL:https://members.ccec.biz/events/details/small-chambers-touch-base-a-ccec-peer-network-event-135
END:VEVENT

END:VCALENDAR
