BEGIN:VCALENDAR
VERSION:2.0
PRODID:-//ChamberMaster//Event Calendar 2.0//EN
METHOD:PUBLISH
X-PUBLISHED-TTL:P3D
REFRESH-INTERVAL:P3D
CALSCALE:GREGORIAN
BEGIN:VEVENT
DTSTART:20210526T170000Z
DTEND:20210526T180000Z
X-MICROSOFT-CDO-ALLDAYEVENT:FALSE
SUMMARY:Small Chambers Touch Base - a CCEC Peer Network Event
DESCRIPTION:This is an opportunity for CEOs leading Chambers with less than 500 members to connect. The agenda will be decided by those that plan to be on the call so that we can tailor the event to what's important to you.\n\n\n\nWhen you register\, please indicate the topics that you would like to see discussed or make mention of experiences that you could share for the benefit of the chamber network.
X-ALT-DESC;FMTTYPE=text/html:This is an opportunity for CEOs leading Chambers with less than 500 members to connect. The agenda will be decided by those that plan to be on the call so that we can tailor the event to what&#39\;s important to you.<br />\n<br />\nWhen you register\, please indicate the topics that you would like to see discussed or make mention of experiences that you could share for the benefit of the chamber network.<br />\n<br />\n<br />\n<br />\n&nbsp\;
LOCATION:On-line
UID:e.1961.123
SEQUENCE:3
DTSTAMP:20260420T144741Z
URL:https://members.ccec.biz/events/details/small-chambers-touch-base-a-ccec-peer-network-event-123
END:VEVENT

END:VCALENDAR
