BEGIN:VCALENDAR
VERSION:2.0
PRODID:-//ChamberMaster//Event Calendar 2.0//EN
METHOD:PUBLISH
X-PUBLISHED-TTL:P3D
REFRESH-INTERVAL:P3D
CALSCALE:GREGORIAN
BEGIN:VEVENT
DTSTART:20200902T180000Z
DTEND:20200902T190000Z
X-MICROSOFT-CDO-ALLDAYEVENT:FALSE
SUMMARY:Small Chambers Touch Base - a CCEC Peer Network Event
DESCRIPTION:How is your Chamber doing these days?\n\n\n\nThis is an opportunity for CEOs leading Chambers with less than 500 members to share plans as you head in to the fall season and adjustments that you are making related to COVID-19.\n\n\n\nWe'll discuss the Chamber recovery issues most important to you\, such as. . .\n\n- revenue replacement\n\n- membership retention\n\n- events - virtually\n\n- technology\n\n\n\nLooking for volunteers to be part of our panel to kick off discussion on these topics and anything else you want to cover. Please indicate when you register what questions you'd most like to deal with and if you would be willing to share your experiences.\n\n\n\nYour opportunity to share what's happening in small chamber communities across the country! Please join the discussion on September 2.
X-ALT-DESC;FMTTYPE=text/html:How is your Chamber doing these days?<br />\n<br />\nThis is an opportunity for CEOs leading Chambers with less than 500 members to share plans as you head in to the fall season and adjustments that you are making related to COVID-19.<br />\n<br />\nWe&#39\;ll discuss the Chamber recovery issues most important to you\, such as. . .<br />\n- revenue replacement<br />\n- membership retention<br />\n- events - virtually<br />\n- technology<br />\n<br />\nLooking for volunteers to be part of our panel to kick off discussion on these topics and anything else you want to cover. Please indicate when you register what questions you&#39\;d most like to deal with and if you would be willing to share your experiences.<br />\n<br />\nYour opportunity to share what&#39\;s happening in small chamber communities across the country!<strong> </strong>Please join the discussion on September 2.<br />\n<br />\n&nbsp\;
LOCATION:On-line
UID:e.1961.92
SEQUENCE:3
DTSTAMP:20260421T020826Z
URL:https://members.ccec.biz/events/details/small-chambers-touch-base-a-ccec-peer-network-event-09-02-2020-92
END:VEVENT

END:VCALENDAR
