BEGIN:VCALENDAR
VERSION:2.0
PRODID:-//ChamberMaster//Event Calendar 2.0//EN
METHOD:PUBLISH
X-PUBLISHED-TTL:P3D
REFRESH-INTERVAL:P3D
CALSCALE:GREGORIAN
BEGIN:VEVENT
DTSTART:20200514T163000Z
DTEND:20200514T173000Z
X-MICROSOFT-CDO-ALLDAYEVENT:FALSE
SUMMARY:Small Chambers Talk Supporting Businesses during COVID-19
DESCRIPTION:What are you doing to support businesses in your community/region in the midst of COVID-19? Chambers are wondering WHAT to do to best support their business members and HOW to do it - especially small chambers with limited manpower.\n\n\n\nPlease join the discussion on May 14 and share your experiences/challenges/best ideas. If you have a specific topic that you would like to speak to or question you would like addressed\, please indicate in the comments section when you register.\n\n\n\nYour opportunity to hear what's happening in small chamber communities across the country!
X-ALT-DESC;FMTTYPE=text/html:What are you doing to support businesses in your community/region in the midst of COVID-19? Chambers are wondering WHAT to do to best support their business members and HOW to do it - especially small chambers with limited manpower.<br />\n<br />\nPlease join the discussion on May 14 and share your experiences/challenges/best ideas. If you have a specific topic that you would like to speak to or question you would like addressed\, please indicate in the comments section when you register.<br />\n<br />\nYour opportunity to hear what&#39\;s happening in small chamber communities across the country!<br />\n&nbsp\;\n<p>&nbsp\;</p>\n
LOCATION:On-line
UID:e.1961.81
SEQUENCE:3
DTSTAMP:20260421T100526Z
URL:https://members.ccec.biz/events/details/small-chambers-talk-supporting-businesses-during-covid-19-81
END:VEVENT

END:VCALENDAR
