BEGIN:VCALENDAR
VERSION:2.0
PRODID:-//ChamberMaster//Event Calendar 2.0//EN
METHOD:PUBLISH
X-PUBLISHED-TTL:P3D
REFRESH-INTERVAL:P3D
CALSCALE:GREGORIAN
BEGIN:VEVENT
DTSTART:20200204T183000Z
DTEND:20200204T193000Z
X-MICROSOFT-CDO-ALLDAYEVENT:FALSE
SUMMARY:Small Chambers Talk Revenue Generation
DESCRIPTION:Hello Small Chambers!\n\nThank you again for your participation in our recent survey. As usual\, getting things organized has taken a bit longer than intended but we've landed on Tuesday February 4th at 11:30am MST for our Small Chambers Peer Network call!\n\n                                                                                                                                                        \n\n33 of our 43 respondents replied that they would like quarterly calls. Over 60% of respondents indicated that Revenue Generation was their top 1 or 2 item where they required support so we will begin there!\n\nSpecifically\, Carla from Innisfail\, who is on the planning team with me will talk about their LED Sign\, and their local Phone Book project. I will also talk about our LED sign as it's a smaller size\, price\, viewership\, etc.\n\n \n\n58% of respondents listed Revenue Generation in your top 3 items that you could lend some support so we're counting on you! If you have a gold star idea that is proven at your small chamber\, we want to hear about it. You can either include information in the Comments field when you register or email monica@lacombechamber.ca by January 31st so we can include you on the agenda. Our goal will be to stay within an hour and it's a bit of a new format so we will learn together!\n\n \n\nThank you in advance for your participation and contribution!\n\n\n\nThere is no charge to participate\, but we ask that you register in order to receive the call-in info.\n\n\n\nMonica Bartman\n\nLacombe Chamber of Commerce
X-ALT-DESC;FMTTYPE=text/html:<p>Hello Small Chambers!<br />\nThank you again for your participation in our recent survey. As usual\, getting things organized has taken a bit longer than intended but we&#39\;ve landed on <strong>Tuesday February 4<sup>th</sup> at 11:30am MST</strong> for our Small Chambers Peer Network call!<br />\n&nbsp\;&nbsp\;&nbsp\;&nbsp\;&nbsp\;&nbsp\;&nbsp\;&nbsp\;&nbsp\;&nbsp\;&nbsp\;&nbsp\;&nbsp\;&nbsp\;&nbsp\;&nbsp\;&nbsp\;&nbsp\;&nbsp\;&nbsp\;&nbsp\;&nbsp\;&nbsp\;&nbsp\;&nbsp\;&nbsp\;&nbsp\;&nbsp\;&nbsp\;&nbsp\;&nbsp\;&nbsp\;&nbsp\;&nbsp\;&nbsp\;&nbsp\;&nbsp\;&nbsp\;&nbsp\;&nbsp\;&nbsp\;&nbsp\;&nbsp\;&nbsp\;&nbsp\;&nbsp\;&nbsp\;&nbsp\;&nbsp\;&nbsp\;&nbsp\;&nbsp\;&nbsp\;&nbsp\;&nbsp\;&nbsp\;&nbsp\;&nbsp\;&nbsp\;&nbsp\;&nbsp\;&nbsp\;&nbsp\;&nbsp\;&nbsp\;&nbsp\;&nbsp\;&nbsp\;&nbsp\;&nbsp\;&nbsp\;&nbsp\;&nbsp\;&nbsp\;&nbsp\;&nbsp\;&nbsp\;&nbsp\;&nbsp\;&nbsp\;&nbsp\;&nbsp\;&nbsp\;&nbsp\;&nbsp\;&nbsp\;&nbsp\;&nbsp\;&nbsp\;&nbsp\;&nbsp\;&nbsp\;&nbsp\;&nbsp\;&nbsp\;&nbsp\;&nbsp\;&nbsp\;&nbsp\;&nbsp\;&nbsp\;&nbsp\;&nbsp\;&nbsp\;&nbsp\;&nbsp\;&nbsp\;&nbsp\;&nbsp\;&nbsp\;&nbsp\;&nbsp\;&nbsp\;&nbsp\;&nbsp\;&nbsp\;&nbsp\;&nbsp\;&nbsp\;&nbsp\;&nbsp\;&nbsp\;&nbsp\;&nbsp\;&nbsp\;&nbsp\;&nbsp\;&nbsp\;&nbsp\;&nbsp\;&nbsp\;&nbsp\;&nbsp\;&nbsp\;&nbsp\;&nbsp\;&nbsp\;&nbsp\;&nbsp\;&nbsp\;&nbsp\;&nbsp\;&nbsp\;&nbsp\;&nbsp\;&nbsp\;&nbsp\;&nbsp\;&nbsp\;&nbsp\;&nbsp\;&nbsp\;<br />\n33 of our 43 respondents replied that they would like quarterly calls.<strong> Over 60% of respondents indicated that Revenue Generation was their top 1 or 2 item where they required support so we will begin there!</strong><br />\nSpecifically\, Carla from Innisfail\, who is on the planning team with me will talk about their LED Sign\, and their local Phone Book project. I will also talk about our LED sign as it&#39\;s a smaller size\, price\, viewership\, etc.<br />\n&nbsp\;<br />\n58% of respondents listed Revenue Generation in your top 3 items that you could lend some support so we&#39\;re counting on you! <strong>If you have a gold star idea that is proven at your small chamber\, we want to hear about it. You can either include information in the Comments field when you register or email <a href="mailto:monica@lacombechamber.ca">monica@lacombechamber.ca</a> by January 31<sup>st</sup> so we can include you on the agenda.</strong> Our goal will be to stay within an hour and it&#39\;s a bit of a new format so we will learn together!<br />\n&nbsp\;<br />\nThank you in advance for your participation and contribution!<br />\n<br />\nThere is no charge to participate\, but we ask that you register in order to receive the call-in info.<br />\n<br />\nMonica Bartman</p>\n\n<p>Lacombe Chamber of Commerce<br />\n&nbsp\;</p>\n
LOCATION:On-line
UID:e.1961.72
SEQUENCE:3
DTSTAMP:20260421T132112Z
URL:https://members.ccec.biz/events/details/small-chambers-talk-revenue-generation-72
END:VEVENT

END:VCALENDAR
