BEGIN:VCALENDAR
VERSION:2.0
PRODID:-//ChamberMaster//Event Calendar 2.0//EN
METHOD:PUBLISH
X-PUBLISHED-TTL:P3D
REFRESH-INTERVAL:P3D
CALSCALE:GREGORIAN
BEGIN:VEVENT
DTSTART:20201104T190000Z
DTEND:20201104T200000Z
X-MICROSOFT-CDO-ALLDAYEVENT:FALSE
SUMMARY:Small Chambers Talk Membership Value
DESCRIPTION:What Is The New Membership Value Proposition?\n\n	How do you define your member value proposition?\n	How do you engage your members and what has the response been like?\n	What is your chamber doing that's new?                           \n	Has your chamber made any significant changes and in what areas?\n	How have your renewals gone and what have you re-tooled in that process?\n\nThis is an opportunity for CEOs leading Chambers with less than 500 members to connect. If you'd be willing to share your ideas and experiences on these topics\, please indicate when you register and we'll call on you to kick off the discussion.\n\n\n\nPlease join us on Wednesday\, November 4th!
X-ALT-DESC;FMTTYPE=text/html:What Is The New Membership Value Proposition?\n<ol>\n	<li style="margin-left:0in\;">How do you define your member value proposition?</li>\n	<li style="margin-left:0in\;">How do you engage your members and what has the response been like?</li>\n	<li style="margin-left:0in\;">What is your chamber doing that&rsquo\;s new? &nbsp\;&nbsp\;&nbsp\;&nbsp\;&nbsp\;&nbsp\;&nbsp\;&nbsp\;&nbsp\;&nbsp\;&nbsp\;&nbsp\;&nbsp\;&nbsp\;&nbsp\;&nbsp\;&nbsp\;&nbsp\;&nbsp\;&nbsp\;&nbsp\;&nbsp\;&nbsp\;&nbsp\;&nbsp\;&nbsp\;</li>\n	<li style="margin-left:0in\;">Has your chamber made any significant changes and in what areas?</li>\n	<li style="margin-left:0in\;">How have your renewals gone and what have you re-tooled in that process?</li>\n</ol>\nThis is an opportunity for CEOs leading Chambers with less than 500 members to connect. If you&#39\;d be willing to share your ideas and experiences on these topics\, please indicate when you register and we&#39\;ll call on you to kick off the discussion.<br />\n<br />\nPlease join us on Wednesday\, November 4th!<br />\n<br />\n&nbsp\;
LOCATION:On-line
UID:e.1961.96
SEQUENCE:3
DTSTAMP:20260420T222709Z
URL:https://members.ccec.biz/events/details/small-chambers-talk-membership-value-96
END:VEVENT

END:VCALENDAR
