BEGIN:VCALENDAR
VERSION:2.0
PRODID:-//ChamberMaster//Event Calendar 2.0//EN
METHOD:PUBLISH
X-PUBLISHED-TTL:P3D
REFRESH-INTERVAL:P3D
CALSCALE:GREGORIAN
BEGIN:VEVENT
DTSTART:20210121T190000Z
DTEND:20210121T200000Z
X-MICROSOFT-CDO-ALLDAYEVENT:FALSE
SUMMARY:Small Chambers Kick off the New Year
DESCRIPTION:As small chambers kick off 2021\, we'll talk about what you see in the year ahead\n\n	What are your goals for 2021?\n	What are gaps in terms of support for your members?\n\nAnd we'll do it in Zoom Rooms providing a primer on how you can use this feature for small group interaction in your own Chambers. We'll do an overview of how to use this feature and then split you into groups of 4-5 for discussion so you can see first hand how it works. Our session leader will be Rebecca Shelley from the Grimsby Chamber who has been successfully using Zoom rooms at her chamber\n\n\n\nGreat opportunity for CEOs leading Chambers with less than 500 members to connect and get to know each other! Please join us on Thursday\, January 21st.
X-ALT-DESC;FMTTYPE=text/html:As small chambers kick off 2021\, we&#39\;ll talk about what you see in the year ahead\n<ol>\n	<li style="margin-left:0in\;">What are your goals for 2021?</li>\n	<li style="margin-left:0in\;">What are gaps in terms of support for your members?</li>\n</ol>\nAnd we&#39\;ll do it in Zoom Rooms providing a primer on how you can use this feature for small group interaction in your own Chambers. We&#39\;ll do an overview of how to use this feature and then split you into groups of 4-5 for discussion so you can see first hand how it works. Our session leader will be Rebecca Shelley from the Grimsby Chamber who has been successfully using Zoom rooms at her chamber<br />\n<br />\nGreat opportunity for CEOs leading Chambers with less than 500 members to connect and get to know each other! Please join us on Thursday\, January 21st.<br />\n<br />\n&nbsp\;
LOCATION:On-line
UID:e.1961.104
SEQUENCE:3
DTSTAMP:20260420T211832Z
URL:https://members.ccec.biz/events/details/small-chambers-kick-off-the-new-year-104
END:VEVENT

END:VCALENDAR
