BEGIN:VCALENDAR
VERSION:2.0
PRODID:-//ChamberMaster//Event Calendar 2.0//EN
METHOD:PUBLISH
X-PUBLISHED-TTL:P3D
REFRESH-INTERVAL:P3D
CALSCALE:GREGORIAN
BEGIN:VEVENT
DTSTART:20220622T170000Z
DTEND:20220622T180000Z
X-MICROSOFT-CDO-ALLDAYEVENT:FALSE
SUMMARY:NEW CCEC Program - Chamber College - starts June 22
DESCRIPTION:CCEC is excited to launch a new virtual program   Chamber College!\n\n In this program developed by the Saskatchewan Chamber of Commerce for chamber executives with 3 or less years' experience\, you'll learn everything you need to know about the basics of chamber management. Over the 7 week program\, we'll cover\n\n\n	June 22 - Introduction to Chamber Network and Structure\n	June 29 - Bylaws\n	July 6 - Non-Dues Revenue   friends\, fame\, fortune (including events\, member benefits\, sponsorship etc)\n	July 13 - Community Leadership and Engagement   when to say no and when to say yes\n	July 20 - Advocacy & Policy Development\n	July 27 - Board Management & Governance\n	Aug 3 - Record Keeping\n\nEach 30-45 minute session is moderated by a CCEC Board member and will include a pre-recording of the week's topic followed by Q&A. At the end of the 7 weeks\, you'll receive all 7 recordings so that you can revisit the material as you wish or as required for new staff. \n\nLearn the Golden Rules of Chamber operations and make yourself and your chamber better and more focused.\n\nOne registration fee of $99 covers all 7 sessions and any/all of your staff are welcome to join the weekly sessions.\n\nRegister for the package by June 13th and you'll be notified with connection instructions for each session
X-ALT-DESC;FMTTYPE=text/html:<p>CCEC is excited to launch a new virtual program &ndash\; <strong>Chamber College!</strong><br />\n&nbsp\;<span style="font-size:10.0pt\;">In this program developed by the Saskatchewan Chamber of Commerce for chamber executives with 3 or less years&#39\; experience\, you&rsquo\;ll learn everything you need to know about the basics of chamber management. Over the 7 week program\, we&rsquo\;ll cover</span></p>\n\n<ul>\n	<li><span style="font-size:10.0pt\;">June 22 - Introduction to <strong>Chamber Network and Structure</strong></span></li>\n	<li><span style="font-size:10.0pt\;">June 29 - <strong>Bylaws</strong></span></li>\n	<li><span style="font-size:10.0pt\;">July 6 - <strong>Non-Dues Revenue</strong> &ndash\; friends\, fame\, fortune (including events\, member benefits\, sponsorship etc)</span></li>\n	<li><span style="font-size:10.0pt\;">July 13 - <strong>Community Leadership and Engagement </strong>&ndash\; when to say no and when to say yes</span></li>\n	<li><span style="font-size:10.0pt\;">July 20 - <strong>Advocacy &amp\; Policy Development</strong></span></li>\n	<li><span style="font-size:10.0pt\;">July 27 - <strong>Board Management &amp\; Governance</strong></span></li>\n	<li><span style="font-size: 10pt\;">Aug 3 - <strong>Record Keeping</strong></span></li>\n</ul>\n<span style="font-size: 10pt\;">Each 30-45 minute session is moderated by a CCEC Board member and will include a pre-recording of the week&rsquo\;s topic followed by Q&amp\;A. At the end of the 7 weeks\, you&rsquo\;ll receive all 7 recordings so that you can revisit the material as you wish or as required for new staff. </span><br />\n<span style="font-size:10.0pt\;">Learn the <em>Golden Rules </em>of Chamber operations and make yourself and your chamber better and more focused.</span><br />\n<span style="font-size:10.0pt\;">One registration fee of $99 covers all 7 sessions and any/all of your staff are welcome to join the weekly sessions.</span><br />\n<span style="font-family:calibri\,sans-serif\;"><span style="font-size:10.0pt\;">Register for the package by June 13<sup>th</sup> and you&rsquo\;ll be notified with connection instructions for each session</span></span>
LOCATION:
UID:e.1961.177
SEQUENCE:3
DTSTAMP:20260419T164056Z
URL:https://members.ccec.biz/events/details/new-ccec-program-chamber-college-starts-june-22-177
END:VEVENT

END:VCALENDAR
