BEGIN:VCALENDAR
VERSION:2.0
PRODID:-//ChamberMaster//Event Calendar 2.0//EN
METHOD:PUBLISH
X-PUBLISHED-TTL:P3D
REFRESH-INTERVAL:P3D
CALSCALE:GREGORIAN
BEGIN:VEVENT
DTSTART:20200129T190000Z
DTEND:20200129T200000Z
X-MICROSOFT-CDO-ALLDAYEVENT:FALSE
SUMMARY:Mid-Cities Peer Network
DESCRIPTION:After a successful first call in September\, we're launching in to 2020 with our second online networking event for mid-city Chambers. If you're interested in exchanging best ideas and discussing biggest challenges with your peers from like sized Chambers\, this program is for you.\n\n\n\nThere is no charge to participate\, but we ask that you register so that we can send you the call-in info the week of the event.\n\n\n\nTo ensure that we're best meeting the needs of the majority\, it would be appreciated if you would take part in a short survey so that we can ascertain what's of key interest to you. The survey also asks you to share one best idea - and all that participate will be sent the compilation - a great opportunity for Chamber R&D (rob and duplicate). It will take 2 minutes to complete at this link:\n\n\n\nThe call will be led by Lisa Kowalchuk\, CCEC's 2019 mid-city Executive of the Year. Thank you and we look forward to chatting with you on January 29th
X-ALT-DESC;FMTTYPE=text/html:After a successful first call in September\, we&#39\;re launching in to 2020 with our second online networking event for mid-city Chambers. If you&#39\;re interested in exchanging best ideas and discussing biggest challenges with your peers from like sized Chambers\, this program is for you.<br />\n<br />\nThere is no charge to participate\, but we ask that you register so that we can send you the call-in info the week of the event.<br />\n<br />\nTo ensure that we&#39\;re best meeting the needs of the majority\, it would be appreciated if you would take part in a short survey so that we can ascertain what&#39\;s of key interest to you. The survey also asks you to share one best idea - and all that participate will be sent the compilation - a great opportunity for Chamber R&amp\;D (rob and duplicate). It will take 2 minutes to complete at this <a href="https://www.surveymonkey.com/r/7L7HSPD">link</a>:<br />\n<br />\nThe call will be led by Lisa Kowalchuk\, CCEC&#39\;s 2019 mid-city Executive of the Year. Thank you and we look forward to chatting with you on January 29th
LOCATION:On-line
UID:e.1961.71
SEQUENCE:3
DTSTAMP:20260421T142407Z
URL:https://members.ccec.biz/events/details/mid-cities-peer-network-71
END:VEVENT

END:VCALENDAR
