BEGIN:VCALENDAR
VERSION:2.0
PRODID:-//ChamberMaster//Event Calendar 2.0//EN
METHOD:PUBLISH
X-PUBLISHED-TTL:P3D
REFRESH-INTERVAL:P3D
CALSCALE:GREGORIAN
BEGIN:VEVENT
DTSTART:20210607T180000Z
DTEND:20210607T190000Z
X-MICROSOFT-CDO-ALLDAYEVENT:FALSE
SUMMARY:Mid-Cities Chambers Touch Base - a CCEC Peer Network Event
DESCRIPTION:This is an opportunity for CEOs leading Chambers with 500-999 members to connect. The agenda is decided by those that plan to be on the call so that we can tailor the event to what's important to you.\n\n\n\nWhen you register\, please indicate the topics that you would like to see discussed or make mention of experiences that you could share for the benefit of the chamber network.
X-ALT-DESC;FMTTYPE=text/html:This is an opportunity for CEOs leading Chambers with 500-999 members to connect. The agenda is decided by those that plan to be on the call so that we can tailor the event to what&#39\;s important to you.<br />\n<br />\nWhen you register\, please indicate the topics that you would like to see discussed or make mention of experiences that you could share for the benefit of the chamber network.<br />\n<br />\n<br />\n<br />\n&nbsp\;
LOCATION:On-line
UID:e.1961.122
SEQUENCE:3
DTSTAMP:20260420T115251Z
URL:https://members.ccec.biz/events/details/mid-cities-chambers-touch-base-a-ccec-peer-network-event-122
END:VEVENT

END:VCALENDAR
