BEGIN:VCALENDAR
VERSION:2.0
PRODID:-//ChamberMaster//Event Calendar 2.0//EN
METHOD:PUBLISH
X-PUBLISHED-TTL:P3D
REFRESH-INTERVAL:P3D
CALSCALE:GREGORIAN
BEGIN:VEVENT
DTSTART:20210209T190000Z
DTEND:20210209T200000Z
X-MICROSOFT-CDO-ALLDAYEVENT:FALSE
SUMMARY:Mid-Cities Chambers Touch Base - a CCEC Peer Network Event
DESCRIPTION:This is an opportunity for CEOs leading Chambers with 500-999 members to share your plans and expectations for 2021. The agenda is decided by those that plan to be on the call so that we can tailor the event to what's important to you. In the past\, we've discussed\n\n- going digital and online marketplaces\n\n- virtual events\n\n- membership\n\n- member programs to meet current demands\n\n- and more!\n\n\n\nWhen you register\, please indicate the topics that you would like to see discussed or make mention of experiences that you could share for the benefit of the chamber network.\n\n\n\nAlso interested in knowing what information you'd like collected in 2021 re: chamber benchmarking - either indicate when you register or let us know at the meeting.\n\n\n\nYour opportunity to share what's happening in mid-city chamber communities across the country! Please join the discussion on February 9th.
X-ALT-DESC;FMTTYPE=text/html:This is an opportunity for CEOs leading Chambers with 500-999 members to share your plans and expectations for 2021. The agenda is decided by those that plan to be on the call so that we can tailor the event to what&#39\;s important to you. In the past\, we&#39\;ve discussed<br />\n- going digital and online marketplaces<br />\n- virtual events<br />\n- membership<br />\n- member programs to meet current demands<br />\n- and more!<br />\n<br />\nWhen you register\, please indicate the topics that you would like to see discussed or make mention of experiences that you could share for the benefit of the chamber network.<br />\n<br />\nAlso interested in knowing what information you&#39\;d like collected in 2021 re: chamber benchmarking - either indicate when you register or let us know at the meeting.<br />\n<br />\nYour opportunity to share what&#39\;s happening in mid-city chamber communities across the country!<strong> </strong>Please join the discussion on February 9th.<br />\n<br />\n&nbsp\;
LOCATION:On-line
UID:e.1961.105
SEQUENCE:3
DTSTAMP:20260420T180649Z
URL:https://members.ccec.biz/events/details/mid-cities-chambers-touch-base-a-ccec-peer-network-event-105
END:VEVENT

END:VCALENDAR
