BEGIN:VCALENDAR
VERSION:2.0
PRODID:-//ChamberMaster//Event Calendar 2.0//EN
METHOD:PUBLISH
X-PUBLISHED-TTL:P3D
REFRESH-INTERVAL:P3D
CALSCALE:GREGORIAN
BEGIN:VEVENT
DTSTART:20210112T050000Z
DTEND:20210112T180000Z
X-MICROSOFT-CDO-ALLDAYEVENT:FALSE
SUMMARY:Mid-Cities Chambers Touch Base - a CCEC Peer Network Event
DESCRIPTION:This is an opportunity for CEOs leading Chambers with 500-999 members to share your plans and expectations for 2020-21. We plan to discuss:\n\n- digital solutions and platforms that chambers have implemented or are considering\n\n- events update\n\n- chamber benchmarking - what information would you like collected in 2021?\n\n- anything else you'd like to discuss!\n\n\n\nPlease indicate when you register what questions you'd most like to deal with and if you would be willing to share your experiences.\n\n\n\nYour opportunity to share what's happening in mid-city chamber communities across the country! Please join the discussion on January 12.
X-ALT-DESC;FMTTYPE=text/html:This is an opportunity for CEOs leading Chambers with 500-999 members to share your plans and expectations for 2020-21. We plan to discuss:<br />\n- digital solutions and platforms that chambers have implemented or are considering<br />\n- events update<br />\n- chamber benchmarking - what information would you like collected in 2021?<br />\n- anything else you&#39\;d like to discuss!<br />\n<br />\nPlease indicate when you register what questions you&#39\;d most like to deal with and if you would be willing to share your experiences.<br />\n<br />\nYour opportunity to share what&#39\;s happening in mid-city chamber communities across the country!<strong> </strong>Please join the discussion on January 12.<br />\n<br />\n&nbsp\;
LOCATION:On-line
UID:e.1961.102
SEQUENCE:3
DTSTAMP:20260420T194533Z
URL:https://members.ccec.biz/events/details/mid-cities-chambers-touch-base-a-ccec-peer-network-event-102
END:VEVENT

END:VCALENDAR
