BEGIN:VCALENDAR
VERSION:2.0
PRODID:-//ChamberMaster//Event Calendar 2.0//EN
METHOD:PUBLISH
X-PUBLISHED-TTL:P3D
REFRESH-INTERVAL:P3D
CALSCALE:GREGORIAN
BEGIN:VEVENT
DTSTART:20200303T193000Z
DTEND:20200303T203000Z
X-MICROSOFT-CDO-ALLDAYEVENT:FALSE
SUMMARY:Mid-Cities Chambers Talk Programs with Purpose
DESCRIPTION:On March 3rd\, the CCEC Mid-cities Peer Network will hear from chambers that have introduced and revamped programs to meet member needs and interests.\n\n	ChamberHood - Keitha Robson - Timmins\n	ChamberAM - Stu Harrison - Peterborough\n	Supporting Women/Leadership/Diversity - Rory Ring\, Sault Ste. Marie\n\nPlus we'll continue the discussions already started on membership\, grants\, IT or whatever other hot topics are keeping you up at night. Come prepared to participate!\n\n\n\nIf you're interested in exchanging best ideas and discussing biggest challenges with your peers from mid-sized Chambers\, this program is for you. (You are invited as one of  40+ CEOs from CCEC member Chambers in mid-sized markets.)\n\n\n\nThere is no charge for the event\, but we ask that you register so that we can send you the call-in info.
X-ALT-DESC;FMTTYPE=text/html:On March 3rd\, the CCEC Mid-cities Peer Network will hear from chambers that have introduced and revamped programs to meet member needs and interests.\n<ul>\n	<li>ChamberHood - Keitha Robson - Timmins</li>\n	<li>ChamberAM - Stu Harrison - Peterborough</li>\n	<li>Supporting Women/Leadership/Diversity - Rory Ring\, Sault Ste. Marie</li>\n</ul>\nPlus we&#39\;ll continue the discussions already started on membership\, grants\, IT or whatever other hot topics are keeping you up at night. Come prepared to participate!<br />\n<br />\nIf you&#39\;re interested in exchanging best ideas and discussing biggest challenges with your peers from mid-sized Chambers\, this program is for you. (You are invited as one of&nbsp\; 40+ CEOs from CCEC member Chambers in mid-sized markets.)<br />\n<br />\nThere is no charge for the event\, but we ask that you register so that we can send you the call-in info.<br />\n<br />\n<br />\n&nbsp\;
LOCATION:On-line
UID:e.1961.74
SEQUENCE:3
DTSTAMP:20260421T115211Z
URL:https://members.ccec.biz/events/details/mid-cities-chambers-talk-programs-with-purpose-74
END:VEVENT

END:VCALENDAR
