BEGIN:VCALENDAR
VERSION:2.0
PRODID:-//ChamberMaster//Event Calendar 2.0//EN
METHOD:PUBLISH
X-PUBLISHED-TTL:P3D
REFRESH-INTERVAL:P3D
CALSCALE:GREGORIAN
BEGIN:VEVENT
DTSTART:20200604T163000Z
DTEND:20200604T173000Z
X-MICROSOFT-CDO-ALLDAYEVENT:FALSE
SUMMARY:Mid-cities Chambers Talk COVID-19 Recovery
DESCRIPTION:Chambers have been consumed helping their business members cope amidst COVID-19. But how is your Chamber coping?\n\n\n\nThis is an opportunity for the CEOs leading Chambers with 500-999 members to share experiences/information/best ideas on how your Chamber is rising to the challenges presented by COVID-19.\n\n\n\nWe'll discuss the Chamber recovery issues most important to you\, such as. . .\n\n- revenue replacement\n\n- membership retention\n\n- events - virtually?\n\n- technology\n\n- HR\n\n\n\nLooking for volunteers to be part of our panel to kick off discussion on these topics and anything else you want to cover. Please indicate when you register if you would be willing to share your experiences.\n\n\n\nYour opportunity to share what's happening in mid-cities chamber communities across the country! Please join the discussion on June 4.\n\n\n\nParticipation in this event is included in your CCEC membership\, but please register in order to receive connection information.
X-ALT-DESC;FMTTYPE=text/html:Chambers have been consumed helping their business members cope amidst COVID-19. But how is your Chamber coping?<br />\n<br />\nThis is an opportunity for the CEOs leading Chambers with 500-999 members to share experiences/information/best ideas on how your Chamber is rising to the challenges presented by COVID-19.<br />\n<br />\nWe&#39\;ll discuss the Chamber recovery issues most important to you\, such as. . .<br />\n- revenue replacement<br />\n- membership retention<br />\n- events - virtually?<br />\n- technology<br />\n- HR<br />\n<br />\nLooking for volunteers to be part of our panel to kick off discussion on these topics and anything else you want to cover. Please indicate when you register if you would be willing to share your experiences.<br />\n<br />\nYour opportunity to share what&#39\;s happening in mid-cities chamber communities across the country!<strong> </strong>Please join the discussion on June 4.<br />\n<br />\nParticipation in this event is included in your CCEC membership\, but please register in order to receive connection information.<br />\n&nbsp\;
LOCATION:On-line
UID:e.1961.85
SEQUENCE:3
DTSTAMP:20260421T081927Z
URL:https://members.ccec.biz/events/details/mid-cities-chambers-talk-covid-19-recovery-85
END:VEVENT

END:VCALENDAR
