BEGIN:VCALENDAR
VERSION:2.0
PRODID:-//ChamberMaster//Event Calendar 2.0//EN
METHOD:PUBLISH
X-PUBLISHED-TTL:P3D
REFRESH-INTERVAL:P3D
CALSCALE:GREGORIAN
BEGIN:VEVENT
DTSTART:20220407T170000Z
DTEND:20220407T180000Z
X-MICROSOFT-CDO-ALLDAYEVENT:FALSE
SUMMARY:Mid-Cities Chambers Connect - a CCEC Peer Network Event
DESCRIPTION:Your opportunity for CEOs leading Chambers with 500-999 members to connect.  Meet your peers across the country doing the same job as you and share successes and challenges.\n\n\n\nAt this month's meeting we plan to cover topics like:\n\n	Immigration Partnerships/Newcomer Businesses/Ukraine\n	Diversity/Equity/Inclusion Initiatives\n	and your burning issues - when you register\, let us know if there are topics you'd like to see addressed. Or if you have a success you'd like to share\, we're interested!
X-ALT-DESC;FMTTYPE=text/html:<span style="font-size:14px\;">Your opportunity for CEOs leading Chambers with 500-999 members to connect.&nbsp\;<span style="color: rgb(51\, 51\, 51)\; font-family: sans-serif\, Arial\, Verdana\, &quot\;Trebuchet MS&quot\;\; background-color: rgb(255\, 255\, 255)\;">&nbsp\;Meet your peers across the country doing the same job as you and share successes and challenges.</span><br />\n<br />\nAt this month&#39\;s meeting we plan to cover topics like:</span>\n<ul>\n	<li><span style="font-size:14px\;">Immigration Partnerships/Newcomer Businesses/Ukraine</span></li>\n	<li><span style="font-size:14px\;">Diversity/Equity/Inclusion Initiatives</span></li>\n	<li><span style="font-size:14px\;">and your burning issues - when you register\, let us know if there are topics you&#39\;d like to see addressed. Or if&nbsp\;you have a success you&#39\;d like to share\, we&#39\;re interested!</span></li>\n</ul>\n<br />\n<br />\n&nbsp\;
LOCATION:On-line
UID:e.1961.165
SEQUENCE:3
DTSTAMP:20260419T211433Z
URL:https://members.ccec.biz/events/details/mid-cities-chambers-connect-a-ccec-peer-network-event-165
END:VEVENT

END:VCALENDAR
