BEGIN:VCALENDAR
VERSION:2.0
PRODID:-//ChamberMaster//Event Calendar 2.0//EN
METHOD:PUBLISH
X-PUBLISHED-TTL:P3D
REFRESH-INTERVAL:P3D
CALSCALE:GREGORIAN
BEGIN:VEVENT
DTSTART:20211125T180000Z
DTEND:20211125T190000Z
X-MICROSOFT-CDO-ALLDAYEVENT:FALSE
SUMMARY:Mid-Cities Chambers Connect - a CCEC Peer Network Event
DESCRIPTION:Join us at the first meeting of the 2021-22 season for the Mid-Cities Peer Network. We'll welcome our new chair David Prang from the Brantford-Brant (ON) Chamber of Commerce\, and as always\, provide an opportunity for CEOs leading Chambers with 500-999 members to connect. On our recent evaluation\, when asked what's most valuable about this group\, we were told "Good to hear the challenges and opportunities from other Chambers in the network. It also helps realize that many local problems are shared in other regions. If you haven't participated before\, we encourage you to give it a try.\n\n\n\nAt this month's meeting\, we plan to talk about\n\n	Chamber budgets for 2022 - are you increasing your membership dues - why or why not?\n	COVID recovery\n	Board engagement - are you having any challenges attracting/engaging Board members?\n	Your burning issues - indicate on the registration form any topics you'd like to see covered.
X-ALT-DESC;FMTTYPE=text/html:Join us at the first meeting of the 2021-22 season for the Mid-Cities Peer Network. We&#39\;ll welcome our new chair David Prang from the Brantford-Brant (ON) Chamber of Commerce\, and as always\, provide an opportunity for CEOs leading Chambers with 500-999 members to connect. On our recent evaluation\, when asked what&#39\;s most valuable about this group\, we were told &quot\;<span style="font-family:times new roman\;"><em>Good to hear the challenges and opportunities from other Chambers in the network. It also helps realize that many local problems are shared in other regions. </em></span>If you haven&#39\;t participated before\, we encourage you to give it a try.<br />\n<br />\nAt this month&#39\;s meeting\, we plan to talk about\n<ul>\n	<li>Chamber budgets for 2022 - are you increasing your membership dues - why or why not?</li>\n	<li>COVID recovery</li>\n	<li>Board engagement - are you having any challenges attracting/engaging Board members?</li>\n	<li>Your burning issues - indicate on the registration form any topics you&#39\;d like to see covered.</li>\n</ul>\n
LOCATION:On-line
UID:e.1961.129
SEQUENCE:3
DTSTAMP:20260420T044130Z
URL:https://members.ccec.biz/events/details/mid-cities-chambers-connect-a-ccec-peer-network-event-129
END:VEVENT

END:VCALENDAR
