BEGIN:VCALENDAR
VERSION:2.0
PRODID:-//ChamberMaster//Event Calendar 2.0//EN
METHOD:PUBLISH
X-PUBLISHED-TTL:P3D
REFRESH-INTERVAL:P3D
CALSCALE:GREGORIAN
BEGIN:VEVENT
DTSTART:20200527T160000Z
DTEND:20200527T170000Z
X-MICROSOFT-CDO-ALLDAYEVENT:FALSE
SUMMARY:Large Chambers Talk COVID-19 Recovery
DESCRIPTION:Chambers have been consumed helping their business members cope amidst COVID-19. But how is your Chamber coping?\n\n\n\nThis is an opportunity for the CEOs leading Chambers with 1000+ members to share experiences/information/best ideas on how your Chamber is rising to the challenges presented by COVID-19.\n\n\n\nWe'll discuss the Chamber recovery issues most important to you\, such as. . .\n\n- revenue replacement\n\n- membership retention\n\n- events - virtually?\n\n- technology\n\n- HR\n\n\n\nPlease join the discussion on May 27. If you have a specific topic that you would like to speak to or question you would like addressed\, please indicate in the comments section when you register.\n\n\n\nYour opportunity to share what's happening in large chamber communities across the country!
X-ALT-DESC;FMTTYPE=text/html:Chambers have been consumed helping their business members cope amidst COVID-19. But how is your Chamber coping?<br />\n<br />\nThis is an opportunity for the CEOs leading Chambers with 1000+ members to share experiences/information/best ideas on how your Chamber is rising to the challenges presented by COVID-19.<br />\n<br />\nWe&#39\;ll discuss the Chamber recovery issues most important to you\, such as. . .<br />\n- revenue replacement<br />\n- membership retention<br />\n- events - virtually?<br />\n- technology<br />\n- HR<br />\n<br />\nPlease join the discussion on May 27. If you have a specific topic that you would like to speak to or question you would like addressed\, please indicate in the comments section when you register.<br />\n<br />\nYour opportunity to share what&#39\;s happening in large chamber communities across the country!<br />\n&nbsp\;\n<p>&nbsp\;</p>\n
LOCATION:On-line
UID:e.1961.82
SEQUENCE:3
DTSTAMP:20260421T084243Z
URL:https://members.ccec.biz/events/details/large-chambers-talk-covid-19-recovery-82
END:VEVENT

END:VCALENDAR
