BEGIN:VCALENDAR
VERSION:2.0
PRODID:-//ChamberMaster//Event Calendar 2.0//EN
METHOD:PUBLISH
X-PUBLISHED-TTL:P3D
REFRESH-INTERVAL:P3D
CALSCALE:GREGORIAN
BEGIN:VEVENT
DTSTART:20190617T170000Z
DTEND:20190617T180000Z
X-MICROSOFT-CDO-ALLDAYEVENT:FALSE
SUMMARY:Interested in Your Chamber Becoming Accredited?
DESCRIPTION:Interested in pursuing accreditation for your Chamber but not sure what's involved? Then join us on June 17th for a primer on what accreditation is about\, the benefits of accreditation\, areas of focus\, and the new online process. This event will be useful to you if you are:\n\n1. not yet accredited but want to learn more\n\n2. a new manager or staff of an accredited Chamber and will be responsible for reaccreditation\n\n3. an accredited Chamber that wants to find out more about the new online process\n\n\n\nSpeaker: Chuck Davidson\, Chair\, Chamber Accreditation Council of Canada
X-ALT-DESC;FMTTYPE=text/html:Interested in pursuing accreditation for your Chamber but not sure what&#39\;s involved? Then join us on June 17th for a primer on what accreditation is about\, the benefits of accreditation\, areas of focus\, and the new online process. This event will be useful to you if you are:<br />\n1. not yet accredited but want to learn more<br />\n2. a new manager or staff of an accredited Chamber and will be responsible for reaccreditation<br />\n3. an accredited Chamber that wants to find out more about the new online process<br />\n<br />\nSpeaker: Chuck Davidson\, Chair\, Chamber Accreditation Council of Canada<br />\n&nbsp\;
LOCATION:Conference call
UID:e.1961.65
SEQUENCE:3
DTSTAMP:20260422T012032Z
URL:https://members.ccec.biz/events/details/interested-in-your-chamber-becoming-accredited-65
END:VEVENT

END:VCALENDAR
