BEGIN:VCALENDAR
VERSION:2.0
PRODID:-//ChamberMaster//Event Calendar 2.0//EN
METHOD:PUBLISH
X-PUBLISHED-TTL:P3D
REFRESH-INTERVAL:P3D
CALSCALE:GREGORIAN
BEGIN:VEVENT
DTSTART:20220420T180000Z
DTEND:20220420T183000Z
X-MICROSOFT-CDO-ALLDAYEVENT:FALSE
SUMMARY:Increase your productivity with CCEC Member Resource Centre
DESCRIPTION:The CCEC Member Resource Centre is your one stop shop for access to sample documents you can R&D (that's rob and deploy) for use in your own Chamber. There's over 400 sample documents in 25 different categories common to chambers - like membership\, policy and advocacy\, sponsorship\, board of directors and many more. You'll also find training materials such as recordings from past webinars and expert resource materials.\n\n\n\nIf you're not sure how to access this tremendous member benefit\, join Stephen Chychota\, Chair of the Member Resource Committee\, and Executive Director Shelley Morris on Wed. Apr 20 at 2:00 ET and we'll do a quick demo. Grab a coffee and spend 15-20 minutes with CCEC\, an investment of your time sure to pay off down the road.
X-ALT-DESC;FMTTYPE=text/html:The CCEC Member Resource Centre is your one stop shop for access to sample documents you can R&amp\;D (that&#39\;s rob and deploy) for use in your own Chamber. There&#39\;s over 400 sample documents in 25 different categories common to chambers - like membership\, policy and advocacy\, sponsorship\, board of directors and many more. You&#39\;ll also find training materials such as recordings from past webinars and expert resource materials.<br />\n<br />\nIf you&#39\;re not sure how to access this tremendous member benefit\, join Stephen Chychota\, Chair of the Member Resource Committee\, and Executive Director Shelley Morris on Wed. Apr 20 at 2:00 ET and we&#39\;ll do a quick demo. Grab a coffee and spend 15-20 minutes with CCEC\, an investment of your time sure to pay off down the road.
LOCATION:
UID:e.1961.173
SEQUENCE:3
DTSTAMP:20260419T211752Z
URL:https://members.ccec.biz/events/details/increase-your-productivity-with-ccec-member-resource-centre-173
END:VEVENT

END:VCALENDAR
