BEGIN:VCALENDAR
VERSION:2.0
PRODID:-//ChamberMaster//Event Calendar 2.0//EN
METHOD:PUBLISH
X-PUBLISHED-TTL:P3D
REFRESH-INTERVAL:P3D
CALSCALE:GREGORIAN
BEGIN:VEVENT
DTSTART:20211104T153000Z
DTEND:20211104T170000Z
X-MICROSOFT-CDO-ALLDAYEVENT:FALSE
SUMMARY:Digital Marketing
DESCRIPTION:Thursday\, November 4th 10:30AM-12:00PM (CST)\n	Digital Marketing Strategy - featuring Blue Moose Media\n	$40 per Chamber executive\n	More info & registration here - http://business.saskchamber.com/events/details/cces-speaker-series-feat-blue-moose-media-on-digital-marketing-strategy-733\n	 \n\nThis event is being organized by the Chamber of Commerce Executives of SK\, which has kindly extended an invitation to CCEC members to attend.
X-ALT-DESC;FMTTYPE=text/html:<ul>\n	<li><span style="font-family:lato\;"><span style="font-size:10.0pt\;">Thursday\, November 4<sup>th</sup> 10:30AM-12:00PM (CST)</span></span></li>\n	<li><strong><span style="font-family:lato\;"><span style="font-size:10.0pt\;">Digital Marketing Strategy</span></span></strong><span style="font-family:lato\;"><span style="font-size:10.0pt\;"> - featuring Blue Moose Media</span></span></li>\n	<li><span style="font-family:lato\;"><span style="font-size:10.0pt\;">$40 per Chamber executive</span></span></li>\n	<li><span style="font-family:lato\;"><span style="font-size:10.0pt\;">More info &amp\; registration here - <a href="http://business.saskchamber.com/events/details/cces-speaker-series-feat-blue-moose-media-on-digital-marketing-strategy-733">http://business.saskchamber.com/events/details/cces-speaker-series-feat-blue-moose-media-on-digital-marketing-strategy-733</a></span></span></li>\n	<li>&nbsp\;</li>\n</ul>\n<span style="font-family:lato\;"><span style="font-size:10.0pt\;">This event is being organized by the Chamber of Commerce Executives of SK\, which has kindly extended an invitation to CCEC members to attend.</span></span>
LOCATION:Webinar
UID:e.1961.132
SEQUENCE:3
DTSTAMP:20260420T033938Z
URL:https://members.ccec.biz/events/details/digital-marketing-132
END:VEVENT

END:VCALENDAR
