BEGIN:VCALENDAR
VERSION:2.0
PRODID:-//ChamberMaster//Event Calendar 2.0//EN
METHOD:PUBLISH
X-PUBLISHED-TTL:P3D
REFRESH-INTERVAL:P3D
CALSCALE:GREGORIAN
BEGIN:VEVENT
DTSTART:20210902T153000Z
DTEND:20210902T170000Z
X-MICROSOFT-CDO-ALLDAYEVENT:FALSE
SUMMARY:Clarity in Marketing and Establishing Niche Markets
DESCRIPTION:Clarity in Marketing & Establishing Niche Markets - featuring Daria Malin with Boost Strategic Coaching\n	Complimentary for Chamber executives\n	More info & registration here - http://business.saskchamber.com/events/details/cces-speaker-series-feat-daria-malin-with-boost-strategic-coaching-731\n\nThis event is being organized by the Chamber of Commerce Executives of SK\, which has kindly extended an invitation to CCEC members to attend.
X-ALT-DESC;FMTTYPE=text/html:<ul>\n	<li><span style="font-family:lato\;"><span style="font-size:10.0pt\;"><strong><span style="font-family:lato\;"><span style="font-size:10.0pt\;">Clarity in Marketing &amp\; Establishing Niche Markets</span></span></strong><span style="font-family:lato\;"><span style="font-size:10.0pt\;"> - featuring Daria Malin with Boost Strategic Coaching</span></span></span></span></li>\n	<li><span style="font-family:lato\;"><span style="font-size:10.0pt\;">Complimentary for Chamber executives</span></span></li>\n	<li><span style="font-family:lato\;"><span style="font-size:10.0pt\;">More info &amp\; registration here - <a href="http://business.saskchamber.com/events/details/cces-speaker-series-feat-daria-malin-with-boost-strategic-coaching-731">http://business.saskchamber.com/events/details/cces-speaker-series-feat-daria-malin-with-boost-strategic-coaching-731</a></span></span></li>\n</ul>\n<span style="font-family:lato\;"><span style="font-size:10.0pt\;">This event is being organized by the Chamber of Commerce Executives of SK\, which has kindly extended an invitation to CCEC members to attend.</span></span>
LOCATION:Webinar
UID:e.1961.130
SEQUENCE:3
DTSTAMP:20260420T064814Z
URL:https://members.ccec.biz/events/details/clarity-in-marketing-and-establishing-niche-markets-130
END:VEVENT

END:VCALENDAR
