BEGIN:VCALENDAR
VERSION:2.0
PRODID:-//ChamberMaster//Event Calendar 2.0//EN
METHOD:PUBLISH
X-PUBLISHED-TTL:P3D
REFRESH-INTERVAL:P3D
CALSCALE:GREGORIAN
BEGIN:VEVENT
DTSTART:20211214T180000Z
DTEND:20211214T190000Z
X-MICROSOFT-CDO-ALLDAYEVENT:FALSE
SUMMARY:Chambers Count Online
DESCRIPTION:Are you interested in accessing an online tool that would provide fast information on how your chamber compares to your peers across the country?\n\n\n\nThe "Chambers Count" benchmarking study is now accessible online. Based on data provided by 133 chambers across the country\, check out how you can use the CCEC portal for data on  how your chamber compares on factors such as:\n\n	membership retention & penetration\n	average dues investment and revenue per member\n	Chamber finances\n	impacts of the pandemic on chambers. \n\nIf you participated in the survey\, you'll already have the hard copy reports but the online portal will allow you to apply select filters for a deeper dive into the data.\n\n\n\nJoin us on December 14th for a preview and see how you can make use of this CCEC member tool in your chamber!
X-ALT-DESC;FMTTYPE=text/html:Are you interested in accessing an online tool that would provide fast information on how your chamber compares to your peers across the country?<br />\n<br />\nThe <span style="font-size:10.0pt\;">&quot\;<em>Chambers Count</em>&quot\; benchmarking study is now accessible online. Based on data provided by 133 chambers across the country\, check out how you can use the CCEC portal for data on&nbsp\; how your chamber compares on factors such as:</span>\n<ul>\n	<li><span style="font-size:10.0pt\;">membership retention &amp\; penetration</span></li>\n	<li><span style="font-size:10.0pt\;">average dues investment and revenue per member</span></li>\n	<li><span style="font-size:10.0pt\;">Chamber finances</span></li>\n	<li><span style="font-size:10.0pt\;">impacts of the pandemic on chambers. </span></li>\n</ul>\n<span style="font-size:10.0pt\;">If you participated in the survey\, you&#39\;ll already have the hard copy reports but the online portal will allow you to apply select filters for a deeper dive into the data.<br />\n<br />\nJoin us on December 14th for a preview and see how you can make use of this CCEC member tool in your chamber!</span><br />\n<br />\n<br />\n<br />\n&nbsp\;
LOCATION:On-line
UID:e.1961.150
SEQUENCE:3
DTSTAMP:20260420T021302Z
URL:https://members.ccec.biz/events/details/chambers-count-online-150
END:VEVENT

END:VCALENDAR
