BEGIN:VCALENDAR
VERSION:2.0
PRODID:-//ChamberMaster//Event Calendar 2.0//EN
METHOD:PUBLISH
X-PUBLISHED-TTL:P3D
REFRESH-INTERVAL:P3D
CALSCALE:GREGORIAN
BEGIN:VEVENT
DTSTART:20200605T180000Z
DTEND:20200605T190000Z
X-MICROSOFT-CDO-ALLDAYEVENT:FALSE
SUMMARY:Chamber Membership Happy Hour
DESCRIPTION:Chamber Membership - How is your Chamber adapting in the midst of COVID-19?\n\n \n\nThe CCEC Membership Peer Network will be holding  "Happy Hour" # 2 on Friday\, June 5 at 2:00 EDT.\n\nThe purpose is to provide an opportunity for all Chamber membership sales and management staff to gather and exchange information on membership challenges your Chamber is facing and how you're adapting during these turbulent times.\n\n \n\nWe'll be dealing with these sorts of questions and anything else that YOU would like to discuss . . .\n\n	How's things going with membership renewals?\n	And what about new members?\n	Sponsorship?\n	Biggest success over the last month?\n	Biggest challenge over the last month?\n	Any best practices that you can share?\n\nLooking for volunteers to be part of our panel to kick off discussion on these questions and anything else you want to cover. Please indicate when you register if you would be willing to share your experiences.\n\n\n\nThere is no fee to participate but please register in order to receive connection information.
X-ALT-DESC;FMTTYPE=text/html:<strong>Chamber Membership - How is your Chamber adapting in the midst of COVID-19?</strong><br />\n&nbsp\;<br />\nThe CCEC Membership Peer Network will be holding&nbsp\; &quot\;Happy Hour&quot\; # 2 on Friday\, June 5 at 2:00 EDT.<br />\nThe purpose is to provide an opportunity for all Chamber membership sales and management staff to gather and exchange information on membership challenges your Chamber is facing and how you&#39\;re adapting during these turbulent times.<br />\n&nbsp\;<br />\nWe&#39\;ll be dealing with these sorts of questions and anything else that YOU would like to discuss . . .\n<ul>\n	<li>How&#39\;s things going with membership renewals?</li>\n	<li>And what about new members?</li>\n	<li>Sponsorship?</li>\n	<li>Biggest success over the last month?</li>\n	<li>Biggest challenge over the last month?</li>\n	<li>Any best practices that you can share?</li>\n</ul>\nLooking for volunteers to be part of our panel to kick off discussion on these questions and anything else you want to cover. Please indicate when you register if you would be willing to share your experiences.<br />\n<br />\nThere is no fee to participate but please register in order to receive connection information.<br />\n&nbsp\;
LOCATION:On-line
UID:e.1961.83
SEQUENCE:3
DTSTAMP:20260421T065217Z
URL:https://members.ccec.biz/events/details/chamber-membership-happy-hour-83
END:VEVENT

END:VCALENDAR
