BEGIN:VCALENDAR
VERSION:2.0
PRODID:-//ChamberMaster//Event Calendar 2.0//EN
METHOD:PUBLISH
X-PUBLISHED-TTL:P3D
REFRESH-INTERVAL:P3D
CALSCALE:GREGORIAN
BEGIN:VEVENT
DTSTART:20260820T170000Z
DTEND:20260820T180000Z
X-MICROSOFT-CDO-ALLDAYEVENT:FALSE
SUMMARY:Chamber College 101 - Summer 2026
DESCRIPTION:Chamber College is an interactive webinar series that dives into the essential pillars of Chamber leadership - operations\, governance\, membership\, programming\, and advocacy\, with a bonus session on earning non-dues revenue with Chambers Plan. \n \n\nThe program includes 6 1-hour classes - part webinar\, part peer-to-peer learning - and a final exam. Achieve a grade of 80% on the open book exam to graduate from Chamber College\, receive a certificate of completion\, and earn 5 points towards your Accredited Chamber Executive designation! \n \n\nYou do not have to attend all of the sessions. The classes will be recorded - the recordings and powerpoint slides will be available in the Member Resource Center within 24 hours. \n  \n\nEveryone who registers for Chamber College will receive a link to the open book exam following the March 12 session. The exam link will be available until the end of day on March 31.\n  \n\nThis program is recommended for Chamber executives and staff who have been with their Chamber for less than 3 years\, but everyone is welcome to participate!\n  \n\nThe webinars will take place:\n\n\n	\n	Operations: Tuesday\, August 18 at 2:00pm Atlantic\n	\n	\n	Governance: Wednesday\, August 19 at 2:00pm Atlantic\n	\n	\n	Membership: Thursday\, August 20 at 2:00pm Atlantic\n	\n	\n	Programming: Tuesday\, August 25 at 2:00pm Atlantic\n	\n	\n	Advocacy: Wednesday\, August 26 at 2:00pm Atlantic\n	\n	\n	Chambers Plan: Thursday\, August 27 at 2:00pm Atlantic
X-ALT-DESC;FMTTYPE=text/html:<p dir="ltr" style="line-height:1.2\;margin-top:0pt\;margin-bottom:0pt\;"><span style="color:#000000\;"><span id="docs-internal-guid-68e5a91f-7fff-d813-a4c1-6f467aba36c6"><span style="font-size: 10pt\; font-family: Arial\, sans-serif\; background-color: transparent\; font-variant-numeric: normal\; font-variant-east-asian: normal\; font-variant-alternates: normal\; font-variant-position: normal\; font-variant-emoji: normal\; vertical-align: baseline\; white-space-collapse: preserve\;">Chamber College is an interactive webinar series that dives into the essential pillars of Chamber leadership - operations\, governance\, membership\, programming\, and advocacy\, with a bonus session on earning non-dues revenue with Chambers Plan.&nbsp\;</span></span></span></p>\n&nbsp\;\n\n<p dir="ltr" style="line-height:1.2\;margin-top:0pt\;margin-bottom:0pt\;"><span style="color:#000000\;"><span id="docs-internal-guid-68e5a91f-7fff-d813-a4c1-6f467aba36c6"><span style="font-size: 10pt\; font-family: Arial\, sans-serif\; background-color: transparent\; font-variant-numeric: normal\; font-variant-east-asian: normal\; font-variant-alternates: normal\; font-variant-position: normal\; font-variant-emoji: normal\; vertical-align: baseline\; white-space-collapse: preserve\;">The program includes 6 1-hour classes - part webinar\, part peer-to-peer learning - and a final exam. Achieve a grade of 80% on the open book exam to graduate from Chamber College\, receive a certificate of completion\, and earn 5 points towards your Accredited Chamber Executive designation!&nbsp\;</span></span></span></p>\n<span style="color:#000000\;">&nbsp\;</span>\n\n<p dir="ltr" style="line-height:1.2\;margin-top:0pt\;margin-bottom:0pt\;"><span style="color:#000000\;"><span id="docs-internal-guid-68e5a91f-7fff-d813-a4c1-6f467aba36c6"><span style="font-size: 10pt\; font-family: Arial\, sans-serif\; background-color: transparent\; font-variant-numeric: normal\; font-variant-east-asian: normal\; font-variant-alternates: normal\; font-variant-position: normal\; font-variant-emoji: normal\; vertical-align: baseline\; white-space-collapse: preserve\;">You do not have to attend all of the sessions. The classes will be recorded - the recordings and powerpoint slides will be available in the Member Resource Center within 24 hours.&nbsp\;</span></span></span></p>\n<span style="color:#000000\;"> &nbsp\;</span>\n\n<p dir="ltr" style="line-height:1.2\;margin-top:0pt\;margin-bottom:0pt\;"><span style="color:#000000\;"><span id="docs-internal-guid-68e5a91f-7fff-d813-a4c1-6f467aba36c6"><span style="font-size: 10pt\; font-family: Arial\, sans-serif\; background-color: transparent\; font-variant-numeric: normal\; font-variant-east-asian: normal\; font-variant-alternates: normal\; font-variant-position: normal\; font-variant-emoji: normal\; vertical-align: baseline\; white-space-collapse: preserve\;">Everyone who registers for Chamber College will receive a link to the open book exam following the March 12 session. The exam link will be available until the end of day on March 31.</span></span></span></p>\n<span style="color:#000000\;"> &nbsp\;</span>\n\n<p dir="ltr" style="line-height:1.2\;margin-top:0pt\;margin-bottom:0pt\;"><span style="color:#000000\;"><span id="docs-internal-guid-68e5a91f-7fff-d813-a4c1-6f467aba36c6"><span style="font-size: 10pt\; font-family: Arial\, sans-serif\; background-color: transparent\; font-variant-numeric: normal\; font-variant-east-asian: normal\; font-variant-alternates: normal\; font-variant-position: normal\; font-variant-emoji: normal\; vertical-align: baseline\; white-space-collapse: preserve\;">This program is recommended for Chamber executives and staff who have been with their Chamber for less than 3 years\, but everyone is welcome to participate!</span></span></span></p>\n<span style="color:#000000\;"> &nbsp\;</span>\n\n<p dir="ltr" style="line-height:1.2\;margin-top:0pt\;margin-bottom:0pt\;"><span style="color:#000000\;"><span id="docs-internal-guid-68e5a91f-7fff-d813-a4c1-6f467aba36c6"><span style="font-size: 10pt\; font-family: Arial\, sans-serif\; background-color: transparent\; font-variant-numeric: normal\; font-variant-east-asian: normal\; font-variant-alternates: normal\; font-variant-position: normal\; font-variant-emoji: normal\; vertical-align: baseline\; white-space-collapse: preserve\;">The webinars will take place:</span></span></span></p>\n\n<ul dir="ltr">\n	<li aria-level="1" dir="ltr" style="list-style-type: disc\; font-size: 10pt\; font-family: Arial\, sans-serif\; color: rgb(0\, 0\, 0)\; background-color: transparent\; font-variant: normal\; vertical-align: baseline\; white-space: pre\;">\n	<p dir="ltr" role="presentation" style="line-height:1.2\;margin-top:0pt\;margin-bottom:0pt\;"><span style="color:#000000\;"><span id="docs-internal-guid-e6ab94f0-7fff-d215-c28c-ae01a4480747"><span style="font-size: 10pt\; background-color: transparent\; font-variant: normal\; vertical-align: baseline\; white-space: pre-wrap\;">Operations: Tuesday\, August 18 at 2:00pm Atlantic</span></span></span></p>\n	</li>\n	<li aria-level="1" dir="ltr" style="list-style-type: disc\; font-size: 10pt\; font-family: Arial\, sans-serif\; color: rgb(0\, 0\, 0)\; background-color: transparent\; font-variant: normal\; vertical-align: baseline\; white-space: pre\;">\n	<p dir="ltr" role="presentation" style="line-height:1.2\;margin-top:0pt\;margin-bottom:0pt\;"><span style="color:#000000\;"><span id="docs-internal-guid-e6ab94f0-7fff-d215-c28c-ae01a4480747"><span style="font-size: 10pt\; background-color: transparent\; font-variant: normal\; vertical-align: baseline\; white-space: pre-wrap\;">Governance: Wednesday\, August 19 at 2:00pm Atlantic</span></span></span></p>\n	</li>\n	<li aria-level="1" dir="ltr" style="list-style-type: disc\; font-size: 10pt\; font-family: Arial\, sans-serif\; color: rgb(0\, 0\, 0)\; background-color: transparent\; font-variant: normal\; vertical-align: baseline\; white-space: pre\;">\n	<p dir="ltr" role="presentation" style="line-height:1.2\;margin-top:0pt\;margin-bottom:0pt\;"><span style="color:#000000\;"><span id="docs-internal-guid-e6ab94f0-7fff-d215-c28c-ae01a4480747"><span style="font-size: 10pt\; background-color: transparent\; font-variant: normal\; vertical-align: baseline\; white-space: pre-wrap\;">Membership: Thursday\, August 20 at 2:00pm Atlantic</span></span></span></p>\n	</li>\n	<li aria-level="1" dir="ltr" style="list-style-type: disc\; font-size: 10pt\; font-family: Arial\, sans-serif\; color: rgb(0\, 0\, 0)\; background-color: transparent\; font-variant: normal\; vertical-align: baseline\; white-space: pre\;">\n	<p dir="ltr" role="presentation" style="line-height:1.2\;margin-top:0pt\;margin-bottom:0pt\;"><span style="color:#000000\;"><span id="docs-internal-guid-e6ab94f0-7fff-d215-c28c-ae01a4480747"><span style="font-size: 10pt\; background-color: transparent\; font-variant: normal\; vertical-align: baseline\; white-space: pre-wrap\;">Programming: Tuesday\, August 25 at 2:00pm Atlantic</span></span></span></p>\n	</li>\n	<li aria-level="1" dir="ltr" style="list-style-type: disc\; font-size: 10pt\; font-family: Arial\, sans-serif\; color: rgb(0\, 0\, 0)\; background-color: transparent\; font-variant: normal\; vertical-align: baseline\; white-space: pre\;">\n	<p dir="ltr" role="presentation" style="line-height:1.2\;margin-top:0pt\;margin-bottom:0pt\;"><span style="color:#000000\;"><span id="docs-internal-guid-e6ab94f0-7fff-d215-c28c-ae01a4480747"><span style="font-size: 10pt\; background-color: transparent\; font-variant: normal\; vertical-align: baseline\; white-space: pre-wrap\;">Advocacy: Wednesday\, August 26 at 2:00pm Atlantic</span></span></span></p>\n	</li>\n	<li aria-level="1" dir="ltr" style="list-style-type: disc\; font-size: 10pt\; font-family: Arial\, sans-serif\; color: rgb(0\, 0\, 0)\; background-color: transparent\; font-variant: normal\; vertical-align: baseline\; white-space: pre\;">\n	<p dir="ltr" role="presentation" style="line-height:1.2\;margin-top:0pt\;margin-bottom:0pt\;"><span style="color:#000000\;"><span id="docs-internal-guid-e6ab94f0-7fff-d215-c28c-ae01a4480747"><span style="font-size: 10pt\; background-color: transparent\; font-variant: normal\; vertical-align: baseline\; white-space: pre-wrap\;">Chambers Plan: Thursday\, August 27 at 2:00pm Atlantic</span></span></span></p>\n	</li>\n</ul>\n
LOCATION:Google Meet: https://meet.google.com/xbm-nfqm-txz
UID:e.1961.530
SEQUENCE:3
DTSTAMP:20260422T023029Z
URL:https://members.ccec.biz/events/details/chamber-college-101-summer-2026-08-20-2026-530
END:VEVENT

END:VCALENDAR
