BEGIN:VCALENDAR
VERSION:2.0
PRODID:-//ChamberMaster//Event Calendar 2.0//EN
METHOD:PUBLISH
X-PUBLISHED-TTL:P3D
REFRESH-INTERVAL:P3D
CALSCALE:GREGORIAN
BEGIN:VEVENT
DTSTART:20220217T180000Z
DTEND:20220217T183000Z
X-MICROSOFT-CDO-ALLDAYEVENT:FALSE
SUMMARY:Chamber Accelerator Check-in
DESCRIPTION:This is an invitation for a quick check-in meeting to see how you're doing with Chamber Accelerator. Everyone who registered for the Feb 1 session is invited. You've all received the instructions on how to set up log-in and this week\, you should have started receiving the daily prompts to complete your Mastery Moment on Ottolearn Chamber Accelerator.\n\n\n\nThis 30 minutes session is an open agenda\, designed to field your questions and feedback. Please register so that we know who plans to attend.
X-ALT-DESC;FMTTYPE=text/html:This is an invitation for a quick check-in meeting to see how you&#39\;re doing with Chamber Accelerator. Everyone who registered for the Feb 1 session is invited. You&#39\;ve all received the instructions on how to set up log-in and this week\, you should have started receiving the daily prompts to complete your Mastery Moment on Ottolearn Chamber Accelerator.<br />\n<br />\nThis 30 minutes session is an open agenda\, designed to field your questions and feedback. Please register so that we know who plans to attend.<br />\n<br />\n<br />\n<br />\n<br />\n<br />\n<br />\n&nbsp\;
LOCATION:On-line
UID:e.1961.169
SEQUENCE:3
DTSTAMP:20260420T003614Z
URL:https://members.ccec.biz/events/details/chamber-accelerator-check-in-169
END:VEVENT

END:VCALENDAR
