BEGIN:VCALENDAR
VERSION:2.0
PRODID:-//ChamberMaster//Event Calendar 2.0//EN
METHOD:PUBLISH
X-PUBLISHED-TTL:P3D
REFRESH-INTERVAL:P3D
CALSCALE:GREGORIAN
BEGIN:VEVENT
DTSTART:20210610T170000Z
DTEND:20210610T180000Z
X-MICROSOFT-CDO-ALLDAYEVENT:FALSE
SUMMARY:CCEC Webinar: The Future of Events
DESCRIPTION:The Future of Events - Sponsored by GrowthZone\n\nWhat comes next for live events? We have learned a lot in the months since the pandemic shut down face to face events\, and a lot of these lessons will guide us for years to come. This webinar is a follow up to the Virtual Events study released by CCEC in the fall of 2020 - join us as an event organizer describes the changes to the world of events that have already taken place and that are on the horizon - and what you need to know when it comes to member engagement\, financial considerations and risk management.\nSpeaker: Mahoganey Jones\, Founder & Event Producer\, Event Specialists Inc.\n Mahoganey Jones is a certified meeting planner\, digital event strategist\, entrepreneur and owner of Event Specialists (https://www.eventspecialists.ca/)\, a conference management firm in Toronto. Mahoganey has been organizing hybrid events for more than a decade\, since well before the pandemic\, and is also well known as a professional speaker who is highly sought after in the event planning industry.
X-ALT-DESC;FMTTYPE=text/html:<strong>The Future of Events - Sponsored by GrowthZone</strong><br />\nWhat comes next for live events? We have learned a lot in the months since the pandemic shut down face to face events\, and a lot of these lessons will guide us for years to come. This webinar is a follow up to the Virtual Events study released by CCEC in the fall of 2020 - join us as an event organizer describes the changes to the world of events that have already taken place and that are on the horizon - and what you need to know when it comes to member engagement\, financial considerations and risk management.\n<h1><span style="font-size:14px\;">Speaker: <strong>Mahoganey Jones</strong>\, Founder &amp\; Event Producer\, Event Specialists Inc.</span></h1>\n&nbsp\;<span style="font-family:calibri\,sans-serif\;"><span style="font-size:11.0pt\;">Mahoganey Jones is a certified meeting planner\, digital event strategist\, entrepreneur and owner of Event Specialists (<a href="https://www.eventspecialists.ca/">https://www.eventspecialists.ca/</a>)\, a conference management firm in Toronto. Mahoganey has been organizing hybrid events for more than a decade\, since well before the pandemic\, and is also well known as a professional speaker who is highly sought after in the event planning industry.</span></span><span style="font-size:12px\;"><span style="font-family:tahoma\,sans-serif\;">&nbsp\; </span></span><br />\n&nbsp\;
LOCATION:Webinar
UID:e.1961.108
SEQUENCE:3
DTSTAMP:20260420T132155Z
URL:https://members.ccec.biz/events/details/ccec-webinar-the-future-of-events-108
END:VEVENT

END:VCALENDAR
