BEGIN:VCALENDAR
VERSION:2.0
PRODID:-//ChamberMaster//Event Calendar 2.0//EN
METHOD:PUBLISH
X-PUBLISHED-TTL:P3D
REFRESH-INTERVAL:P3D
CALSCALE:GREGORIAN
BEGIN:VEVENT
DTSTART:20211124T170000Z
DTEND:20211124T180000Z
X-MICROSOFT-CDO-ALLDAYEVENT:FALSE
SUMMARY:CCEC Webinar: The Formula - How to Launch a Successful Advocacy Campaign with Limited Resources
DESCRIPTION:The Formula - How To Launch A Successful Advocacy Campaign With Limited Resources \n\n \n\nThis presentation will walk you through The Formula - a practical\, step-by-step process you can follow to develop and implement successful advocacy campaigns in your community. \n\n \n\nTargeted to chambers with limited policy / advocacy experience (but also useful to anyone looking for a refresher)\, participants will leave the presentation with templates\, policy examples and defined processes that will allow them to begin policy development immediately.\n\n\n\nSpeaker: Deneen Everett\, Yellowknife Chamber of Commerce\n\nDeneen Everett is the Executive Director of the Yellowknife Chamber of Commerce and has been involved in the Chamber Network for almost 9 years. She was President of CCEC in 2019/2020\, is an Accredited Chamber Executive (level 2)\, and received the Executive of the Year Award for Chambers under 500 members in 2017. She holds a Masters of Business Administration and is a strong advocate for businesses in her community and the North. Join Deneen for her last CCEC event as she departs from the Yellowknife Chamber on December 31st - at which time she will be embarking  on her next venture in entrepreneurship.
X-ALT-DESC;FMTTYPE=text/html:<strong><span style="font-family:arial\,sans-serif\;"><span style="font-size:10.0pt\;">The Formula - How To Launch A Successful Advocacy Campaign With Limited Resources </span></span></strong><br />\n&nbsp\;<br />\n<span style="font-family:arial\,sans-serif\;"><span style="font-size:10.0pt\;">This presentation will walk you through The Formula - a practical\, step-by-step process you can follow to develop and implement successful advocacy campaigns in your community. </span></span><br />\n&nbsp\;<br />\n<span style="font-family:arial\,sans-serif\;"><span style="font-size:10.0pt\;">Targeted to chambers with limited policy / advocacy experience (but also useful to anyone looking for a refresher)\, participants will leave the presentation with templates\, policy examples and defined processes that will allow them to begin policy development immediately.<br />\n<br />\nSpeaker: <strong>Deneen Everett\,</strong> Yellowknife Chamber of Commerce<br />\nDeneen Everett is the Executive Director of the Yellowknife Chamber of Commerce and has been involved in the Chamber Network for almost 9 years. She was President of CCEC in 2019/2020\, is an Accredited Chamber Executive (level 2)\, and received the Executive of the Year Award for Chambers under 500 members in 2017. She holds a Masters of Business Administration and is a strong advocate for businesses in her community and the North. Join Deneen for her last CCEC event as she departs from the Yellowknife Chamber on December 31st - at which time she will be embarking&nbsp\; on her next venture in entrepreneurship.</span></span><br />\n<br />\n<br />\n<span style="font-size:12px\;"><span style="font-family:arial\;">&nbsp\;</span></span><br />\n&nbsp\;<br />\n<br />\n&nbsp\;<br />\n<br />\n&nbsp\;
LOCATION:Webinar
UID:e.1961.109
SEQUENCE:3
DTSTAMP:20260420T034507Z
URL:https://members.ccec.biz/events/details/ccec-webinar-the-formula-how-to-launch-a-successful-advocacy-campaign-with-limited-resources-109
END:VEVENT

END:VCALENDAR
