BEGIN:VCALENDAR
VERSION:2.0
PRODID:-//ChamberMaster//Event Calendar 2.0//EN
METHOD:PUBLISH
X-PUBLISHED-TTL:P3D
REFRESH-INTERVAL:P3D
CALSCALE:GREGORIAN
BEGIN:VEVENT
DTSTART:20210401T170000Z
DTEND:20210401T180000Z
X-MICROSOFT-CDO-ALLDAYEVENT:FALSE
SUMMARY:CCEC Webinar: Strategic Planning - Your Road Map to Success
DESCRIPTION:Strategic Planning - Your Road Map to Success - John Ferris\, CEO InVision Edge\n\nAre there times when you feel like your wheels are spinning? Is there plenty of action but you're not getting anywhere? Are your teams not focused on the most important things to drive impact? You have a plan\, but is it being executed?\n\n\n\nStrategic planning does not need to be a long\, drawn-out process. In this webinar\, we will show you five steps to clarify your strategy and get you on the path to execution and success. \n\n\n\nSpeaker: John Ferris \n\nAs the CEO of inVision Edge\, John is driven to unleash the innovator within to help leaders and their organizations accelerate growth by thinking bigger\, bolder\, smarter and faster.  Prior to founding inVision\, John held executive positions in strategic planning\, sales and marketing\, operations\, and human resources at a number of leading Canadian companies.  John and the crew at inVision Edge work with organizations worldwide enabling innovation by everyone\, everywhere and every day to make great things happen.
X-ALT-DESC;FMTTYPE=text/html:<p><span style="font-size:12px\;"><strong>Strategic&nbsp\;Planning - Your&nbsp\;Road Map to Success - John Ferris</strong>\, CEO InVision Edge<br />\nAre there times when you feel like your wheels are spinning? Is there plenty of action but you&#39\;re not getting anywhere? Are your teams not focused on the most important things to drive impact? You have a plan\, but is it being executed?<br />\n<br />\nStrategic planning does not need to be a long\, drawn-out process. In this webinar\, we will show you five steps to clarify your strategy and get you on the path to execution and success. </span><br />\n<br />\n<strong><span style="color:#222222\;"><span style="font-family:arial\,sans-serif\;">Speaker: John Ferris </span></span></strong></p>\n\n<p><span style="font-size:12px\;"><span style="color:#222222\;"><span style="font-family:arial\,sans-serif\;">As the CEO of inVision Edge\, John is driven to unleash the innovator within to help leaders and their organizations accelerate growth by thinking bigger\, bolder\, smarter and faster.&nbsp\; </span></span><span style="color:#222222\;"><span style="font-family:arial\,sans-serif\;">Prior to founding inVision\, John held executive positions in strategic planning\, sales and marketing\, operations\, and human resources at a number of leading Canadian companies.&nbsp\; </span></span><span style="color:#222222\;"><span style="font-family:arial\,sans-serif\;">John and the crew at inVision Edge work with organizations worldwide enabling innovation by everyone\, everywhere and every day to make great things happen.</span></span></span><br />\n<span style="font-size:12px\;"><span style="font-family:arial\;">&nbsp\;</span></span><br />\n&nbsp\;<br />\n<br />\n&nbsp\;<br />\n<br />\n&nbsp\;</p>\n
LOCATION:Webinar
UID:e.1961.111
SEQUENCE:3
DTSTAMP:20260420T163913Z
URL:https://members.ccec.biz/events/details/ccec-webinar-strategic-planning-your-road-map-to-success-111
END:VEVENT

END:VCALENDAR
