BEGIN:VCALENDAR
VERSION:2.0
PRODID:-//ChamberMaster//Event Calendar 2.0//EN
METHOD:PUBLISH
X-PUBLISHED-TTL:P3D
REFRESH-INTERVAL:P3D
CALSCALE:GREGORIAN
BEGIN:VEVENT
DTSTART:20190605T170000Z
DTEND:20190605T180000Z
X-MICROSOFT-CDO-ALLDAYEVENT:FALSE
SUMMARY:CCEC Webinar: Productivity Ninja 101
DESCRIPTION:What to expect: Join us for tips on how to de-stress your work and align your best energy with your most meaningful tasks\, with emphasis on inbox/email management. \n\n\n\nWe're often overwhelmed by the volume of information and the many distractions we face at work.  It's no longer enough to just focus on time management:  we need time to think about how we manage our attention\, focus\, and energy. \n\n\n\nThis workshop is built around the fun and engaging theme of the characteristics of a Productivity Ninja such as ruthlessness\, weapon savvy and zen-like calm.  We'll explore brain science and best practices to help with your workflow\, email\, and the art of recovering from constant interruptions. With the application of a few key tips\, you can realize time savings of 6   30 minutes per day\, reduce stress levels\, and experience the benefits of playful productive momentum. \n\n\n\nSpeaker:\n\nAbout Jennifer Fox\n\n In a field often dominated by theory\, Jennifer Fox developed her leadership\, coaching and facilitation style based on a gap she observed that was preventing people from achieving their desired results: using clear language\, practical application and personal accountability. She has been endorsed as "One of the most practical\, no nonsense Learning & Development professionals on the planet" by enthusiastic clients.\n\n \n\nJennifer previously held management and leadership roles at Nordstrom.com\, Starbucks (corporate) and Getty Images. She is a trusted consultant to Twinings North America and regularly coaches hi-potential employees and leaders seeking to overcome obstacles in their careers or achieve personal development goals. Jen's 25 years of experience has resulted in expertise in organizational design\, coaching\, performance and talent management\, employee development\, change management and project management. She has a track record of leveraging technology to accelerate the learning process and has been a leader in bringing social media solutions to unite individuals and teams. A self-described personal-learning junkie\, she helps individuals and teams take the best ideas from today's influencers and put them into action.
X-ALT-DESC;FMTTYPE=text/html:<strong><span style="color:black\;"><span style="font-family:calibri\,sans-serif\;">What to expect:</span></span></strong><span style="color:black\;"><span style="font-family:calibri\,sans-serif\;">&nbsp\;Join us for tips on how to de-stress your work and align your best energy with your most meaningful tasks\, with emphasis on inbox/email management.&nbsp\;<br />\n<br />\nWe&rsquo\;re often overwhelmed by the volume of information and the many distractions we face at work. &nbsp\;It&rsquo\;s no longer enough to just focus on time management: &nbsp\;we need time to think about how we manage our attention\, focus\, and energy.&nbsp\;<br />\n<br />\nThis workshop is built around the fun and engaging theme of the characteristics of a Productivity Ninja such as ruthlessness\, weapon savvy and zen-like calm. &nbsp\;We&rsquo\;ll explore brain science and best practices to help with your workflow\, email\, and the art of recovering from constant interruptions.&nbsp\;With the application of a few key tips\, you can realize time savings of 6 &ndash\; 30 minutes per day\, reduce stress levels\, and experience the benefits of playful productive momentum.&nbsp\;</span></span><br />\n<br />\nSpeaker:<br />\n<strong><span style="color:black\;"><span style="font-family:calibri\,sans-serif\;">About Jennifer Fox</span></span></strong><br />\n&nbsp\;<span style="color:black\;"><span style="font-family:calibri\,sans-serif\;">In a field often dominated by theory\, Jennifer Fox developed her leadership\, coaching and facilitation style based on a gap she observed that was preventing people from achieving their desired results: using clear language\, practical application and personal accountability. She has been endorsed as &ldquo\;One of the most practical\, no nonsense Learning &amp\; Development professionals on the planet&rdquo\; by enthusiastic clients.</span></span><br />\n&nbsp\;<br />\n<span style="color:black\;"><span style="font-family:calibri\,sans-serif\;">Jennifer previously held management and leadership roles at Nordstrom.com\, Starbucks (corporate) and Getty Images. She is a trusted consultant to Twinings North America and regularly coaches hi-potential employees and leaders seeking to overcome obstacles in their careers or achieve personal development goals. Jen&rsquo\;s 25 years of experience has resulted in expertise in organizational design\, coaching\, performance and talent management\, employee development\, change management and project management. She has a track record of leveraging technology to accelerate the learning process and has been a leader in bringing social media solutions to unite individuals and teams. A self-described personal-learning junkie\, she helps individuals and teams take the best ideas from today&rsquo\;s influencers and put them into action.</span></span><br />\n<br />\n<br />\n<br />\n<br style="font-variant-ligatures:normal\;orphans:2\;widows:2\;" />\n<br />\n<br />\n&nbsp\;
LOCATION:Webinar / Conference Call
UID:e.1961.64
SEQUENCE:3
DTSTAMP:20260422T011846Z
URL:https://members.ccec.biz/events/details/ccec-webinar-productivity-ninja-101-64
END:VEVENT

END:VCALENDAR
