BEGIN:VCALENDAR
VERSION:2.0
PRODID:-//ChamberMaster//Event Calendar 2.0//EN
METHOD:PUBLISH
X-PUBLISHED-TTL:P3D
REFRESH-INTERVAL:P3D
CALSCALE:GREGORIAN
BEGIN:VEVENT
DTSTART:20200122T180000Z
DTEND:20200122T190000Z
X-MICROSOFT-CDO-ALLDAYEVENT:FALSE
SUMMARY:CCEC Webinar: Policy 101
DESCRIPTION:Policy 101\n\nThis webinar will detail how to get started\, understanding the process\, using the network\, and other hacks to help you up your policy game with ease.\n\n\n\nSpeaker: Sandra Dueck - Policy Analyst/Communications Specialist for the Greater Peterborough Chamber of Commerce.  She has been in the role since 2013.  In 2016\, Sandra was recognized as Staff Person of the Year by the Chamber of Commerce Executives of Canada (CCEC).  She landed in the Chamber world after 12 years as the News Director and morning news anchor at KX96 radio in Oshawa. Sandra serves on the Ontario Chamber of Commerce Policy Committee as Co-Chair\, is the Co-Chair of the Ontario Caucus for the Canadian Chamber of Commerce policy process\, is the Vice Chair of the Board of Directors for Peterborough and the Kawarthas Economic development.  She also sits on the Board of Directors for the Mount Community Centre\, serves on a number of committees\, hosts The Ottawa Report on YourTV Cogeco and is a regular voice of the Business Community on committees\, task forces\, round tables and media commentary.
X-ALT-DESC;FMTTYPE=text/html:<span style="font-size:12px\;"><strong><u><span style="font-size:16px\;">Policy 101</span></u></strong><br />\nThis webinar will detail how to get started\, understanding the process\, using the network\, and other hacks to help you up your policy game with ease.</span><br />\n<br />\n<strong><u><span style="color:#3B3838\;"><span style="font-size:12.0pt\;">Speaker: Sandra Dueck - </span></span></u></strong>Policy Analyst/Communications Specialist for the Greater Peterborough Chamber of Commerce.&nbsp\; She has been in the role since 2013.&nbsp\; In 2016\, Sandra was recognized as Staff Person of the Year by the Chamber of Commerce Executives of Canada (CCEC).&nbsp\; She landed in the Chamber world after 12 years as the News Director and morning news anchor at KX96 radio in Oshawa. Sandra serves on the Ontario Chamber of Commerce Policy Committee as Co-Chair\, is the Co-Chair of the Ontario Caucus for the Canadian Chamber of Commerce policy process\, is the Vice Chair of the Board of Directors for Peterborough and the Kawarthas Economic development.&nbsp\; She also sits on the Board of Directors for the Mount Community Centre\, serves on a number of committees\, hosts The Ottawa Report on YourTV Cogeco and is a regular voice of the Business Community on committees\, task forces\, round tables and media commentary.<br />\n<br />\n<br />\n<br />\n<br />\n<br />\n&nbsp\;<br />\n&nbsp\;
LOCATION:Webinar / Conference Call
UID:e.1961.70
SEQUENCE:3
DTSTAMP:20260421T142119Z
URL:https://members.ccec.biz/events/details/ccec-webinar-policy-101-70
END:VEVENT

END:VCALENDAR
