BEGIN:VCALENDAR
VERSION:2.0
PRODID:-//ChamberMaster//Event Calendar 2.0//EN
METHOD:PUBLISH
X-PUBLISHED-TTL:P3D
REFRESH-INTERVAL:P3D
CALSCALE:GREGORIAN
BEGIN:VEVENT
DTSTART:20191127T180000Z
DTEND:20191127T190000Z
X-MICROSOFT-CDO-ALLDAYEVENT:FALSE
SUMMARY:CCEC Webinar: Membership Growth for Small Chambers
DESCRIPTION:Membership Growth For Small Chambers:\n\n	Understand Your Value Proposition\n	The Power Of The Membership Benefits Package\n	Marketing With No Money\n	Smooth Processing - Renewals and New Member Signups\n	They've Said "Yes To The Membership" - Now What?\n	Retaining Is Easier Than Recruiting\n\nNote: Target audience for this webinar is staff at small chambers (1-3 staff)\, with limited budgets and less than 5 years' experience in their role\n\n\n\nSpeaker: Deneen Everett\, Yellowknife Chamber of Commerce & CCEC President\n\nDeneen Everett joined the Yellowknife Chamber of Commerce as Executive Director in January 2014\, following 1.5 years with the Peace River & District Chamber of Commerce. The Yellowknife Chamber has grown from 200 members in 2014 to 393 at the end of 2018.\n\n\n\nShe is very engaged with the Chamber network\, serving as President of CCEC\, Yellowknife's representative on the NWT Chamber of Commerce\, Chair of the Canadian Chamber of Commerce's Territorial Policy Committee and Chair of the Northern Caucus.  Deneen was the recipient of the CCEC Executive of the Year Award (Chambers under 500 members) in 2017 and became an Accredited Chamber Executive (Level 2) in 2018.  \n\n\n\nShe holds a Master of Business Administration from Athabasca University\, a Bachelor of Science from Mount Saint Vincent University and is a licensed event and wedding planning professional.  She lives in Yellowknife\, NT with her fianc  Matt and their cat\, Zora
X-ALT-DESC;FMTTYPE=text/html:<strong>Membership Growth For Small Chambers:</strong>\n<ol>\n	<li style="margin-left:0in\;">Understand Your Value Proposition</li>\n	<li style="margin-left:0in\;">The Power Of The Membership Benefits Package</li>\n	<li style="margin-left:0in\;">Marketing With No Money</li>\n	<li style="margin-left:0in\;">Smooth Processing - Renewals and New Member Signups</li>\n	<li style="margin-left:0in\;">They&#39\;ve Said &quot\;Yes To The Membership&quot\; - Now What?</li>\n	<li style="margin-left:0in\;">Retaining Is Easier Than Recruiting</li>\n</ol>\nNote: Target audience for this webinar is staff at small chambers (1-3 staff)\, with limited budgets and less than 5 years&#39\; experience in their role<br />\n<br />\nSpeaker: <strong>Deneen Everett\,</strong> Yellowknife Chamber of Commerce &amp\; CCEC President<br />\n<span style="font-family:arial\,sans-serif\;"><span style="font-size:10.0pt\;">Deneen Everett joined the Yellowknife Chamber of Commerce as Executive Director in January 2014\, following 1.5 years with the Peace River &amp\; District Chamber of Commerce.&nbsp\;</span></span><span style="font-family:calibri\,sans-serif\;"><span style="font-size:11.0pt\;">The Yellowknife Chamber has grown from 200 members in 2014 to 393 at the end of 2018.</span></span><br />\n<br />\n<span style="font-family:arial\,sans-serif\;"><span style="font-size:10.0pt\;">She is very engaged with the Chamber network\, serving as President of CCEC\, Yellowknife&#39\;s representative on the NWT Chamber of Commerce\, Chair of the Canadian Chamber of Commerce&#39\;s Territorial Policy Committee and Chair of the Northern Caucus.&nbsp\; </span></span><span style="font-family:arial\,sans-serif\;"><span style="font-size:10.0pt\;">Deneen was the recipient of the CCEC Executive of the Year Award (Chambers under 500 members) in 2017 and became an Accredited Chamber Executive (Level 2) in 2018.&nbsp\; </span></span><br />\n<br />\n<span style="font-family:arial\,sans-serif\;"><span style="font-size:10.0pt\;">She holds a Master of Business Administration from Athabasca University\, a Bachelor of Science from Mount Saint Vincent University and is a licensed event and wedding planning professional.&nbsp\; </span></span><span style="font-family:arial\,sans-serif\;"><span style="font-size:10.0pt\;">She lives in Yellowknife\, NT with her fianc&eacute\; Matt and their cat\, Zora</span></span><br />\n<br style="font-variant-ligatures:normal\;orphans:2\;widows:2\;" />\n<br />\n<br />\n&nbsp\;
LOCATION:Webinar / Conference Call
UID:e.1961.68
SEQUENCE:3
DTSTAMP:20260421T173056Z
URL:https://members.ccec.biz/events/details/ccec-webinar-membership-growth-for-small-chambers-68
END:VEVENT

END:VCALENDAR
