BEGIN:VCALENDAR
VERSION:2.0
PRODID:-//ChamberMaster//Event Calendar 2.0//EN
METHOD:PUBLISH
X-PUBLISHED-TTL:P3D
REFRESH-INTERVAL:P3D
CALSCALE:GREGORIAN
BEGIN:VEVENT
DTSTART:20191101T170000Z
DTEND:20191101T180000Z
X-MICROSOFT-CDO-ALLDAYEVENT:FALSE
SUMMARY:CCEC Webinar: LinkedIn
DESCRIPTION:Linked in                         \n\nMaximize your Chamber LinkedIn Group and individual LinkedIn profiles for recruitment and retention of members.\n\nLearn how to leverage LinkedIn to be a relevant business development\, recruitment and retention tool. Use as a strategy to stay front of mind with your members and business relationships\, while increasing warm referrals and prospecting success. In addition\, use as a tool to stay abreast of trends that impact business and industry.\n\n\n\nSpeaker: \n\nShari Pash\, Membership and Growth Strategist\n\nShari works with Chambers of Commerce\, non-profit organizations\, and associations in over 27 states and throughout Canada. Through her hands-on work she is changing the culture and way organizations approach membership recruitment\, engagement\, and retention. She provides a customized multi-step process and program with proven success.  Client outcomes continue to excel through the implementation of foundational tools and reports that have proven success with measurements for growth. In addition to this work\, Shari conducts board of director planning sessions\, and works with non-profit organizations to develop and recruit volunteers.
X-ALT-DESC;FMTTYPE=text/html:<span style="font-weight:bold\;text-transform:uppercase\;language:en-CA\;"><span style="font-family:calibri\;">Linked in</span></span><span style="text-transform:uppercase\;language:en-CA\;"><span style="font-family:calibri\;">&nbsp\;&nbsp\;&nbsp\;&nbsp\;&nbsp\;&nbsp\;&nbsp\;&nbsp\;&nbsp\;&nbsp\;&nbsp\;&nbsp\;&nbsp\;&nbsp\;&nbsp\;&nbsp\;&nbsp\;&nbsp\;&nbsp\;&nbsp\;&nbsp\;&nbsp\;&nbsp\;&nbsp\; </span></span><br />\n<span style="language:en-US\;"><span style="font-family:calibri\;">Maximize your Chamber LinkedIn Group and individual LinkedIn profiles for recruitment and retention of members.</span></span><br />\n<span style="language:en-US\;"><span style="font-family:calibri\;">Learn how to leverage LinkedIn to be a relevant business development\, recruitment and retention tool. Use as a strategy to stay front of mind with your members and business relationships\, while increasing warm referrals and prospecting success. In addition\, use as a tool to stay abreast of trends that impact business and industry.<br />\n<br />\nSpeaker: </span></span><br />\n<span style="font-weight:bold\;text-transform:uppercase\;language:en-US\;"><span style="font-family:calibri\;"><span style="font-size:14.0pt\;">Shari Pash</span></span></span><span style="font-weight:bold\;text-transform:uppercase\;language:en-US\;"><span style="font-family:calibri\;"><span style="font-size:9.0pt\;">\, </span></span></span><span style="font-weight:bold\;language:en-US\;"><span style="font-family:calibri\;"><span style="font-size:9.0pt\;">Membership and Growth Strategist</span></span></span><br />\n<span style="language:en-US\;"><span style="font-family:calibri\;"><span style="font-size:9.0pt\;">Shari works with Chambers of Commerce\, non-profit organizations\, and associations in over 27 states and throughout Canada. Through her hands-on work she is changing the culture and way organizations approach membership recruitment\, engagement\, and retention. She provides a customized multi-step process and program with proven success.&nbsp\; Client outcomes continue to excel through the implementation of foundational tools and reports that have proven success with measurements for growth. In addition to this work\, Shari conducts board of director planning sessions\, and works with non-profit organizations to develop and recruit volunteers.</span></span></span><br />\n&nbsp\;<br />\n<br />\n&nbsp\;<br />\n<br />\n&nbsp\;
LOCATION:Webinar / Conference Call
UID:e.1961.67
SEQUENCE:3
DTSTAMP:20260421T171131Z
URL:https://members.ccec.biz/events/details/ccec-webinar-linkedin-67
END:VEVENT

END:VCALENDAR
