BEGIN:VCALENDAR
VERSION:2.0
PRODID:-//ChamberMaster//Event Calendar 2.0//EN
METHOD:PUBLISH
X-PUBLISHED-TTL:P3D
REFRESH-INTERVAL:P3D
CALSCALE:GREGORIAN
BEGIN:VEVENT
DTSTART:20200325T170000Z
DTEND:20200325T180000Z
X-MICROSOFT-CDO-ALLDAYEVENT:FALSE
SUMMARY:CCEC Webinar: How to Turn Your Website into a Sales Machine
DESCRIPTION:Most chamber websites fail to convert visitors into members or customers. Discover quick and easy ways to turn your website into a greater source of revenue for your chamber.\n\n\n\nSpeaker: Frank Kenny\n\nFrank Kenny is a former chamber member\, board member\, chairman of the board\, and chamber President/CEO. He now consults with and trains chamber and association professionals from around the world. He is the author of 3 books for chambers\, business associations\, and their members. His area of special expertise is social media\, digital marketing and technology. Frank is the founder of the Chamber Focus Show and the 7\,400 member Chamber Pros Community. He is a faculty member of the U.S. Chamber's Institute for Organization Management (IOM). He has a degree in finance and his MBA.
X-ALT-DESC;FMTTYPE=text/html:<br />\n<span style="font-size:12px\;">Most chamber websites fail to convert visitors into members or customers. Discover quick and easy ways to turn your website into a greater source of revenue for your chamber.<br />\n<br />\nSpeaker: Frank Kenny</span><br />\n<span style="color:windowtext\;"><span style="font-family:calibri\,sans-serif\;"><span style="font-size:9.0pt\;">Frank Kenny is a former chamber member\, board member\, chairman of the board\, and chamber President/CEO. He now consults with and trains chamber and association professionals from around the world. He is the author of 3 books for chambers\, business associations\, and their members. His area of special expertise is social media\, digital marketing and technology. Frank is the founder of the Chamber Focus Show and the 7\,400 member Chamber Pros Community. He is a faculty member of the U.S. Chamber&rsquo\;s Institute for Organization Management (IOM). He has a degree in finance and his MBA. </span></span></span><br />\n<br />\n<br />\n&nbsp\;<br />\n<br />\n&nbsp\;
LOCATION:Webinar / Conference Call
UID:e.1961.75
SEQUENCE:3
DTSTAMP:20260421T115514Z
URL:https://members.ccec.biz/events/details/ccec-webinar-how-to-turn-your-website-into-a-sales-machine-75
END:VEVENT

END:VCALENDAR
