BEGIN:VCALENDAR
VERSION:2.0
PRODID:-//ChamberMaster//Event Calendar 2.0//EN
METHOD:PUBLISH
X-PUBLISHED-TTL:P3D
REFRESH-INTERVAL:P3D
CALSCALE:GREGORIAN
BEGIN:VEVENT
DTSTART:20210224T180000Z
DTEND:20210224T190000Z
X-MICROSOFT-CDO-ALLDAYEVENT:FALSE
SUMMARY:CCEC Webinar: Exceptional Times\, Exceptional Action - Shari Pash
DESCRIPTION:Exceptional Times\, Exceptional Action\n\nResolve\, Resilience\, Return\, Rethink\, and Reform - how will each of these impact your Chamber in 2021. We will look at best practices and adapt each action referenced in the McKinsey & Company\, COVID-19 Briefing Materials Report. Together we will discuss how to create exceptional action for your next normal in Chamber operation\, membership\, non-dues revenue\, and let's not forget your own self-care.\n\n	Cultural shifts through and post-pandemic impacting  membership and operations\n	Resource development beyond membership\, and including non-dues revenue strategies\n	Recruiting and engaging the next generation/millennial members\n	Moving members from transactional to relational - Mission ROI\n	Are the Chamber 3 C's directing your strategy for the next normal\n	Healthy you\, healthy chamber\n\nSpeaker:\n\nShari Pash\, Membership and Growth Strategist\n\nShari Pash\, is founder of Strategic Solutions for Growth. Her work focus is on sustainable member growth and Board of Director goals and strategy sessions\, which requires much more than just maintaining the status quo - it calls for innovation\, creativity\, and a strategic approach. That's why chambers of commerce\, non-profit organizations\, and associations throughout the U.S. and Canada are turning to Shari. She is a dynamic conference presenter for many national associations\, including Association of Chamber of Commerce Executives (ACCE)\, Institute for Organization Management (IOM) and CCEC.
X-ALT-DESC;FMTTYPE=text/html:<strong><em>Exceptional Times\, Exceptional Action</em></strong><br />\nResolve\, Resilience\, Return\, Rethink\, and Reform - how will each of these impact your Chamber in 2021. We will look at best practices and adapt each action referenced in the McKinsey &amp\; Company\, COVID-19 Briefing Materials Report. Together we will discuss how to create exceptional action for your next normal in Chamber operation\, membership\, non-dues revenue\, and let&#39\;s not forget your own self-care.\n<ul>\n	<li style="margin-bottom:0in\;">Cultural shifts through and post-pandemic impacting&nbsp\; membership and operations</li>\n	<li style="margin-bottom:0in\;">Resource development beyond membership\, and including non-dues revenue strategies</li>\n	<li style="margin-bottom:0in\;">Recruiting and engaging the next generation/millennial members</li>\n	<li style="margin-bottom:0in\;">Moving members from transactional to relational - Mission ROI</li>\n	<li style="margin-bottom:0in\;">Are the Chamber 3 C&#39\;s directing your strategy for the next normal</li>\n	<li style="margin-bottom:0in\;">Healthy you\, healthy chamber</li>\n</ul>\n<span style="font-size:12px\;"><span style="font-family:arial\;">Speaker:<br />\n<span style="font-weight:bold\;text-transform:uppercase\;language:en-US\;">Shari Pash</span><span style="font-weight:bold\;text-transform:uppercase\;language:en-US\;">\, </span><span style="font-weight:bold\;language:en-US\;">Membership and Growth Strategist</span></span></span><br />\nShari Pash\, is founder of Strategic Solutions for Growth. Her work focus is on sustainable member growth and Board of Director goals and strategy sessions\, which requires much more than just maintaining the status quo - it calls for innovation\, creativity\, and a strategic approach. That&#39\;s why chambers of commerce\, non-profit organizations\, and associations throughout the U.S. and Canada are turning to Shari.<span style="font-size:12px\;"><span style="font-family:arial\;"> She</span></span> is a dynamic conference presenter for many national associations\, including Association of Chamber of Commerce Executives (ACCE)\, Institute for Organization Management (IOM) and CCEC.<br />\n<span style="font-size:12px\;"><span style="font-family:arial\;">&nbsp\;</span></span><br />\n&nbsp\;<br />\n<br />\n&nbsp\;<br />\n<br />\n&nbsp\;
LOCATION:Webinar
UID:e.1961.107
SEQUENCE:3
DTSTAMP:20260420T182127Z
URL:https://members.ccec.biz/events/details/ccec-webinar-exceptional-times-exceptional-action-shari-pash-107
END:VEVENT

END:VCALENDAR
