BEGIN:VCALENDAR
VERSION:2.0
PRODID:-//ChamberMaster//Event Calendar 2.0//EN
METHOD:PUBLISH
X-PUBLISHED-TTL:P3D
REFRESH-INTERVAL:P3D
CALSCALE:GREGORIAN
BEGIN:VEVENT
DTSTART:20190612T170000Z
DTEND:20190612T180000Z
X-MICROSOFT-CDO-ALLDAYEVENT:FALSE
SUMMARY:CCEC Webinar: Effective Committees
DESCRIPTION:How to have effective committees\n\n \n\nAre your committees working to their highest capacity?  Are they accomplishing their goals?  In this session\, Deb will outline how to audit your committees\, give them strong mandates and also reveal which committees every board should have.\n\n \n\nSpeaker: Deb McClelland worked at the Kamloops Chamber of Commerce for 19 years\, with the last 16 years as Executive Director.  In that time\, she helped develop her board into a high-functioning governance board and changed their committees to be governing committees.  Since her retirement in 2018\, Deb has been travelling across Canada facilitating strategic plans\, teaching board governance and chamber management with her new business\, OnboardTraining.ca
X-ALT-DESC;FMTTYPE=text/html:<strong><u><span style="color:#3B3838\;"><span style="font-size:12.0pt\;">How to have effective committees</span></span></u></strong><br>\n&nbsp\;<br>\n<span style="color:#3B3838\;"><span style="font-size:12.0pt\;">Are your committees working to their highest capacity?&nbsp\; Are they accomplishing their goals? &nbsp\;In this session\, Deb will outline how to audit your committees\, give them strong mandates and also reveal which committees every board should have.</span></span><br>\n&nbsp\;<br>\n<span style="color:#3B3838\;"><span style="font-size:12.0pt\;">Speaker: Deb McClelland worked at the Kamloops Chamber of Commerce for 19 years\, with the last 16 years as Executive Director.&nbsp\; In that time\, she helped develop her board into a high-functioning governance board and changed their committees to be governing committees.&nbsp\; Since her retirement in 2018\, Deb has been travelling across Canada facilitating strategic plans\, teaching board governance and chamber management with her new business\, OnboardTraining.ca </span></span><br>\n<br>\n<br>\n<br>\n<br>\n<br style="font-variant-ligatures:normal\;orphans:2\;widows:2\;">\n<br>\n<br>\n&nbsp\;
LOCATION:Webinar / Conference Call
UID:e.1961.61
SEQUENCE:3
DTSTAMP:20260422T011537Z
URL:https://members.ccec.biz/events/details/ccec-webinar-effective-committees-61
END:VEVENT

END:VCALENDAR
