BEGIN:VCALENDAR
VERSION:2.0
PRODID:-//ChamberMaster//Event Calendar 2.0//EN
METHOD:PUBLISH
X-PUBLISHED-TTL:P3D
REFRESH-INTERVAL:P3D
CALSCALE:GREGORIAN
BEGIN:VEVENT
DTSTART:20200228T180000Z
DTEND:20200228T190000Z
X-MICROSOFT-CDO-ALLDAYEVENT:FALSE
SUMMARY:CCEC Webinar: Communicating Chamber Value to Maximize Member Engagement - Shari Pash
DESCRIPTION:Many chambers are seeing long-term members drop. In this session\, we will discuss what engagement means to different member segments\, how to define and measure chamber value and engagement\, and how to increase overall engagement. Key to engagement is value\, we will also discuss strategies and tips for educating potential members on the value of their chamber investment. Helping members to see your value beyond events and ribbon cuttings. Discussion on tips for sharing why it's important to invest even if the potential member has limited time to be involved. Help prospects\, members\, and your business community understand the value that their investment brings to your overall mission and what engagement can mean to their company or business.\n\n\n\n\n\nSpeaker:\n\nShari Pash\, Membership and Growth Strategist\n\nShari works with Chambers of Commerce\, non-profit organizations\, and associations in over 27 states and throughout Canada. Through her hands-on work she is changing the culture and way organizations approach membership recruitment\, engagement\, and retention. She provides a customized multi-step process and program with proven success.  Client outcomes continue to excel through the implementation of foundational tools and reports that have proven success with measurements for growth. In addition to this work\, Shari conducts board of director planning sessions\, and works with non-profit organizations to develop and recruit volunteers.
X-ALT-DESC;FMTTYPE=text/html:<span style="font-size:12px\;"><span style="font-family:arial\;"><span style="color:black\;">Many chambers are seeing long-term members drop. In this session\, we will discuss what engagement means to different member segments\, how to define and measure chamber value and engagement\, and how to increase overall engagement. Key to engagement is value\, we will also&nbsp\;discuss strategies and tips for educating potential members on the value of their chamber investment.&nbsp\;Helping members to see your value beyond events and ribbon cuttings.&nbsp\;Discussion on tips for sharing why it&rsquo\;s important to invest even if the potential member has limited time to be involved.&nbsp\;Help prospects\, members\, and your business community understand the value that their investment brings to your overall mission and what engagement can mean to their company or business.</span><br />\n<br />\n<br />\nSpeaker:<br />\n<span style="font-weight:bold\;text-transform:uppercase\;language:en-US\;">Shari Pash</span><span style="font-weight:bold\;text-transform:uppercase\;language:en-US\;">\, </span><span style="font-weight:bold\;language:en-US\;">Membership and Growth Strategist</span><br />\nShari works with Chambers of Commerce\, non-profit organizations\, and associations in over 27 states and throughout Canada. Through her hands-on work she is changing the culture and way organizations approach membership recruitment\, engagement\, and retention. She provides a customized multi-step process and program with proven success.&nbsp\; Client outcomes continue to excel through the implementation of foundational tools and reports that have proven success with measurements for growth. In addition to this work\, Shari conducts board of director planning sessions\, and works with non-profit organizations to develop and recruit volunteers.</span></span><br />\n&nbsp\;<br />\n<br />\n&nbsp\;<br />\n<br />\n&nbsp\;
LOCATION:Webinar / Conference Call
UID:e.1961.73
SEQUENCE:3
DTSTAMP:20260421T132015Z
URL:https://members.ccec.biz/events/details/ccec-webinar-communicating-chamber-value-to-maximize-member-engagement-shari-pash-73
END:VEVENT

END:VCALENDAR
