BEGIN:VCALENDAR
VERSION:2.0
PRODID:-//ChamberMaster//Event Calendar 2.0//EN
METHOD:PUBLISH
X-PUBLISHED-TTL:P3D
REFRESH-INTERVAL:P3D
CALSCALE:GREGORIAN
BEGIN:VEVENT
DTSTART:20190829T173000Z
DTEND:20190829T183000Z
X-MICROSOFT-CDO-ALLDAYEVENT:FALSE
SUMMARY:CCEC Webinar: Best Ideas from ACCE
DESCRIPTION:Best Ideas from ACCE\n\nIn July\, ACCE held its annual convention in Long Beach California - a Chamber professional development event attended by 800 delegates from across North America.  Since you all couldn't be there\, we've asked four CCEC members to share with you the  the best ideas they could find at the conference. In one hour\, you'll hear from:\n\n\n\nTodd Letts (Brampton)\n\n\n	What is a chamber: short analogy for your next sales pitch\n	CCE - Certified Chamber Executive: why you should apply\n	Thank yous: hand-written - the secret to member retention - so why aren't you doing more?\n\n\nDana Walton (Kitchener-Waterloo) - best takeaways on sales and retention strategies. \n\nSonia Ziade (FCCQ) - highlights from keynote on « Expect to Win: 10 Proven Strategies for Thriving in the Workplace »\n\nPenny Walsh McGuire (Charlottetown)\n\n\n	Recruiting & Engaging Millennials\n	Soft Skills Development \n	Chambers & Foundations -how chambers could pursue economic development projects/initiatives through a foundation model \n	Evaluating Entrepreneurial Ecosystems - how is your community doing in terms of support for entrepreneurs (Boulder Colorado Economic Council & Chamber Case Study)\n	 Power Compass keynote (new power/old power model)\n\n\nJoin us for a unique event where four Chambers will share what they learned and provide ideas that you just might be able to apply in your own Chamber. (And don't forget\, these events are recorded\, so if you can't be there on Aug 29\, you can still register and receive the recording.)\n\n\n\nSpeakers:\n\nTodd Letts (Brampton Chamber\, ON) - CCEC Past-President\n\nDana Walton (Kitchener-Waterloo Chamber\, ON)\n\nSonia Ziade (FCCQ\, QC) - new member to CCEC\n\nPenny Walsh McGuire (Charlottetown Chamber) - CCEC Vice-President
X-ALT-DESC;FMTTYPE=text/html:<p><span style="font-size:12px\;"><span style="font-family:arial\;"><strong>Best Ideas from ACCE</strong><br>\nIn July\, ACCE held its annual convention in Long Beach California - a Chamber professional development event attended by 800 delegates from across North America.&nbsp\; Since you all couldn't be there\, we've asked four CCEC members to share with you the&nbsp\; the <strong>best ideas</strong> they could find at the conference. In one hour\, you'll hear from:<br>\n<br>\n<strong><span style="color:#111111\;"><span style="font-weight:bold\;"><span style="color:#111111\;">Todd Letts </span></span></span></strong><span style="color:#111111\;"><span style="font-weight:bold\;"><span style="color:#111111\;">(Brampton)</span></span></span></span></span></p>\n\n<ol>\n	<li style="margin-left:0in\;"><span style="font-size:12px\;"><span style="font-family:arial\;">What is a chamber: short analogy for your next sales pitch</span></span></li>\n	<li style="margin-left:0in\;"><span style="font-size:12px\;"><span style="font-family:arial\;">CCE - Certified Chamber Executive: why you should apply</span></span></li>\n	<li style="margin-bottom:12.0pt\;margin-left:0in\;"><span style="font-size:12px\;"><span style="font-family:arial\;">Thank yous: hand-written - the secret to member retention - so why aren't you doing more?</span></span></li>\n</ol>\n\n<p><span style="font-size:12px\;"><span style="font-family:arial\;"><strong><span style="font-weight:bold\;">Dana</span></strong> <strong>Walton </strong>(Kitchener-Waterloo) - best takeaways on sales and retention strategies. </span></span></p>\n\n<p><span style="font-size:12px\;"><span style="font-family:arial\;"><strong><span style="font-weight:bold\;">Sonia</span> Ziade</strong> (FCCQ) - highlights from keynote <strong>on</strong><span style="color:black\;"><span style="font-weight:bold\;"><span style="color:black\;"> «&nbsp\;</span></span></span><span style="color:#111111\;"><span style="font-weight:bold\;"><span style="color:#111111\;">Expect to Win: 10 Proven Strategies for Thriving in the Workplace&nbsp\;»</span></span></span></span></span></p>\n\n<p><span style="font-size:12px\;"><span style="font-family:arial\;"><strong><span style="font-weight:bold\;">Penny Walsh McGuire (Charlottetown)</span></strong></span></span></p>\n\n<ul>\n	<li style="margin-left:-15.6pt\;"><span style="font-size:12px\;"><span style="font-family:arial\;">Recruiting &amp\; Engaging Millennials</span></span></li>\n	<li style="margin-left:-15.6pt\;"><span style="font-size:12px\;"><span style="font-family:arial\;">Soft Skills Development </span></span></li>\n	<li style="margin-left:-15.6pt\;"><span style="font-size:12px\;"><span style="font-family:arial\;">Chambers &amp\; Foundations -how chambers could pursue economic development projects/initiatives through a foundation model </span></span></li>\n	<li style="margin-left:-15.6pt\;"><span style="font-size:12px\;"><span style="font-family:arial\;">Evaluating Entrepreneurial Ecosystems - how is your community doing in terms of support for entrepreneurs (Boulder Colorado Economic Council &amp\; Chamber Case Study)</span></span></li>\n	<li style="margin-left:-15.6pt\;"><span style="font-size:12px\;"><span style="font-family:arial\;">&nbsp\;Power Compass keynote (new power/old power model)</span></span></li>\n</ul>\n\n<p><span style="font-size:12px\;"><span style="font-family:arial\;">Join us for a unique event where four Chambers will share what they learned and provide ideas that you just might be able to apply in your own Chamber. (And don't forget\, these events are recorded\, so if you can't be there on Aug 29\, you can still register and receive the recording.)<br>\n<br>\n<strong>Speakers:<br>\nTodd Letts </strong>(Brampton Chamber\, ON) - CCEC Past-President<br>\n<strong>Dana Walton</strong> (Kitchener-Waterloo Chamber\, ON)<br>\n<strong>Sonia Ziade</strong> (FCCQ\, QC) - new member to CCEC<br>\n<strong>Penny Walsh McGuire </strong>(Charlottetown Chamber) - CCEC Vice-President</span></span><br>\n&nbsp\;</p>\n\n<p>&nbsp\;</p>\n
LOCATION:Conference call
UID:e.1961.66
SEQUENCE:3
DTSTAMP:20260421T220545Z
URL:https://members.ccec.biz/events/details/ccec-webinar-best-ideas-from-acce-66
END:VEVENT

END:VCALENDAR
