BEGIN:VCALENDAR
VERSION:2.0
PRODID:-//ChamberMaster//Event Calendar 2.0//EN
METHOD:PUBLISH
X-PUBLISHED-TTL:P3D
REFRESH-INTERVAL:P3D
CALSCALE:GREGORIAN
BEGIN:VEVENT
DTSTART:20200925T160000Z
DTEND:20200925T170000Z
X-MICROSOFT-CDO-ALLDAYEVENT:FALSE
SUMMARY:CCEC Virtual AGM
DESCRIPTION:CCEC AGM goes virtual this year - please join us to receive an update on CCEC activities in 2019-20 and exercise your right to vote as a CCEC member.\n\nAgenda\n\n1.      Call to Order\n\n2.      Approval of Minutes\, September 20\, 2019\n\n3.      Business Arising from Minutes\n\n4.      President's Report/Year in Review   Deneen Everett\n\n5.      Financial Report   Shelley Morris\n\n6.     Nominating Report   Lisa Kowalchuk\n\n7.    2020-21 President's Remarks - Stuart Harrison\n\n8.    New Business\n\n9.    Date of Next Meeting: October 1\, 2021\, Ottawa\n\n10.  Adjourn\n\n\n\nRecognition of Accredited Chamber Executives\n\nRecognition of Milestone Service Recipients
X-ALT-DESC;FMTTYPE=text/html:CCEC AGM goes virtual this year - please join us to receive an update on CCEC activities in 2019-20 and exercise your right to vote as a CCEC member.<br />\n<span style="text-transform:uppercase\;language:en-US\;"><span style="color:#C00000\;"><span style="font-family:franklin gothic demi cond\;"><span style="font-size:17.0pt\;">Agenda</span></span></span></span><br />\n<span style="language:en-CA\;"><span style="color:black\;"><span style="font-family:&amp\;"><span style="font-size:9.9974pt\;">1.&nbsp\;&nbsp\;&nbsp\;&nbsp\;&nbsp\; Call to Order</span></span></span></span><br />\n<span style="language:en-CA\;"><span style="color:black\;"><span style="font-family:&amp\;"><span style="font-size:9.9974pt\;">2.&nbsp\;&nbsp\;&nbsp\;&nbsp\;&nbsp\; Approval of </span></span></span></span><span style="language:en-CA\;"><span style="font-family:&amp\;"><span style="font-size:9.9974pt\;">Minutes\, September 20\, 2019</span></span></span><br />\n<span style="language:en-CA\;"><span style="font-family:&amp\;"><span style="font-size:9.9974pt\;">3.&nbsp\;&nbsp\;&nbsp\;&nbsp\;&nbsp\; Business Arising from Minutes</span></span></span><br />\n<span style="language:en-CA\;"><span style="font-family:&amp\;"><span style="font-size:9.9974pt\;">4.&nbsp\;&nbsp\;&nbsp\;&nbsp\;&nbsp\; President&rsquo\;s Report/Year in Review &ndash\; Deneen Everett</span></span></span><br />\n<span style="language:en-CA\;"><span style="font-family:&amp\;"><span style="font-size:9.9974pt\;">5.&nbsp\;&nbsp\;&nbsp\;&nbsp\;&nbsp\; Financial Report &ndash\; Shelley Morris</span></span></span><br />\n<span style="language:en-CA\;"><span style="font-family:&amp\;"><span style="font-size:9.9974pt\;">6. </span></span></span>&nbsp\;&nbsp\;&nbsp\;&nbsp\;<span style="language:en-CA\;"><span style="font-family:&amp\;"><span style="font-size:9.9974pt\;">Nominating Report &ndash\; Lisa Kowalchuk<br />\n7.</span></span></span>&nbsp\;&nbsp\;&nbsp\; 2020-21 President&#39\;s Remarks - Stuart Harrison<br />\n<span style="language:en-CA\;"><span style="font-family:&amp\;"><span style="font-size:9.9974pt\;">8. </span></span></span>&nbsp\;&nbsp\; <span style="language:en-CA\;"><span style="font-family:&amp\;"><span style="font-size:9.9974pt\;">New Business</span></span></span><br />\n<span style="language:en-CA\;"><span style="font-family:&amp\;"><span style="font-size:9.9974pt\;">9. </span></span></span>&nbsp\;&nbsp\; <span style="language:en-CA\;"><span style="font-family:&amp\;"><span style="font-size:9.9974pt\;">Date of Next Meeting: October 1\, 2021\, Ottawa</span></span></span><br />\n<span style="language:en-CA\;"><span style="color:black\;"><span style="font-family:&amp\;"><span style="font-size:9.9974pt\;">10.&nbsp\; </span></span></span></span><span style="language:en-CA\;"><span style="color:black\;"><span style="font-family:&amp\;"><span style="font-size:9.9974pt\;">Adjourn<br />\n<br />\nRecognition of Accredited Chamber Executives<br />\nRecognition of Milestone Service Recipients</span></span></span></span><br />\n&nbsp\;<br />\n<br />\n<br />\n&nbsp\;
LOCATION:Virtual
UID:e.1961.91
SEQUENCE:3
DTSTAMP:20260421T020446Z
URL:https://members.ccec.biz/events/details/ccec-virtual-agm-91
END:VEVENT

END:VCALENDAR
