BEGIN:VCALENDAR
VERSION:2.0
PRODID:-//ChamberMaster//Event Calendar 2.0//EN
METHOD:PUBLISH
X-PUBLISHED-TTL:P3D
REFRESH-INTERVAL:P3D
CALSCALE:GREGORIAN
BEGIN:VEVENT
DTSTART:20211109T193000Z
DTEND:20211109T210000Z
X-MICROSOFT-CDO-ALLDAYEVENT:FALSE
SUMMARY:CCEC Town Hall in Atlantic Canada
DESCRIPTION:Join the CCEC Sailboat Innovation Game!\n\nFirst stop for our sailboat is Atlantic Canada on Tuesday\, November 9th at 3:30 p.m.\n\nOn this journey\, CCEC is interested in hearing what you need to be an effective leader of your Chamber. In these group discussions by region\, we'll ask you\n\n1. what does success as a chamber leader look  like for you?\n\n2. what's helping you and what's holding you back?\n\n\n\nYour input will feed in to CCEC's 2022-25 strategic plan and inform how we allocate resources to best serve the needs of our members. (Plus\, by participating\, you'll get to see a cool facilitation tool in action - Mural - that you may wish to use in your own chamber.)\n\n\n\nThe sessions will be led by CCEC President\, Loren Remillard from the Winnipeg Chamber of Commerce and is open to Chamber CEOs in the region. Please join us!
X-ALT-DESC;FMTTYPE=text/html:<strong>Join the CCEC Sailboat Innovation Game!</strong><br />\nFirst stop for our sailboat is Atlantic Canada on Tuesday\, November 9th at 3:30 p.m.<br />\nOn this journey\, CCEC is interested in hearing what you need to be an effective leader of your Chamber. In these group discussions by region\, we&#39\;ll ask you<br />\n1. what does success as a chamber leader look&nbsp\; like for you?<br />\n2. what&#39\;s helping you and what&#39\;s holding you back?<br />\n<br />\nYour input will feed in to CCEC&#39\;s 2022-25 strategic plan and inform how we allocate resources to best serve the needs of our members. (Plus\, by participating\, you&#39\;ll get to see a cool facilitation tool in action - Mural - that you may wish to use in your own chamber.)<br />\n<br />\nThe sessions will be led by CCEC President\, Loren Remillard from the Winnipeg Chamber of Commerce and is open to Chamber CEOs in the region. Please join us!
LOCATION:
UID:e.1961.143
SEQUENCE:3
DTSTAMP:20260420T045954Z
URL:https://members.ccec.biz/events/details/ccec-town-hall-in-atlantic-canada-143
END:VEVENT

END:VCALENDAR
