BEGIN:VCALENDAR
VERSION:2.0
PRODID:-//ChamberMaster//Event Calendar 2.0//EN
METHOD:PUBLISH
X-PUBLISHED-TTL:P3D
REFRESH-INTERVAL:P3D
CALSCALE:GREGORIAN
BEGIN:VEVENT
DTSTART:20210624T180000Z
DTEND:20210624T190000Z
X-MICROSOFT-CDO-ALLDAYEVENT:FALSE
SUMMARY:CCEC Membership Happy Hour # 9
DESCRIPTION:It's our  Membership Happy Hour # 9 - on Thursday\, June 24 at 2:00 p.m. ET -  an opportunity for all Chamber membership sales and management staff to gather and exchange information on membership experiences and best practices.\n\n\n\nAt our last meeting\, you told us you'd like to talk about membership fee structures so we'll delve into that. Send me your fee structure or link to this information on your website and I'll put together a package as a resource for you to refer to.\n\n\n\nAnd as always\, your questions - please indicate when you register if there are topics you'd like to discuss or questions you'd like to ask and we'll do our best to get those covered.
X-ALT-DESC;FMTTYPE=text/html:<p>It&#39\;s our&nbsp\; Membership Happy Hour # 9 - on Thursday\, June 24 at 2:00 p.m. ET -&nbsp\; an opportunity for all Chamber membership sales and management staff to gather and exchange information on membership experiences and best practices.<br />\n<br />\nAt our last meeting\, you told us you&#39\;d like to talk about <strong>membership fee structures</strong> so we&#39\;ll delve into that. Send me your fee structure or link to this information on your website and I&#39\;ll put together a package as a resource for you to refer to.<br />\n<br />\nAnd as always\, your questions - please indicate when you register if there are topics you&#39\;d like to discuss or questions you&#39\;d like to ask and we&#39\;ll do our best to get those covered.<br />\n&nbsp\;<br />\n&nbsp\;</p>\n<br />\n<br />\n&nbsp\;
LOCATION:On-line
UID:e.1961.124
SEQUENCE:3
DTSTAMP:20260420T133821Z
URL:https://members.ccec.biz/events/details/ccec-membership-happy-hour-9-124
END:VEVENT

END:VCALENDAR
