BEGIN:VCALENDAR
VERSION:2.0
PRODID:-//ChamberMaster//Event Calendar 2.0//EN
METHOD:PUBLISH
X-PUBLISHED-TTL:P3D
REFRESH-INTERVAL:P3D
CALSCALE:GREGORIAN
BEGIN:VEVENT
DTSTART:20210513T180000Z
DTEND:20210513T190000Z
X-MICROSOFT-CDO-ALLDAYEVENT:FALSE
SUMMARY:CCEC Membership Happy Hour # 8
DESCRIPTION:It's our  Membership Happy Hour # 8 - on Thursday\, May 13 at 2:00 p.m. ET -  an opportunity for all Chamber membership sales and management staff to gather and exchange information on membership experiences and best practices.\n\n\n\nThis month\, we'll talk about sales - and specifically discuss\n\n- when do we go back to resell memberships to those that left due to COVID?\n\n- have members' expectations of a chamber changed over the last year?\n\n\n\nAnd as always\, your questions - please indicate when you register if there are topics you'd like to discuss or questions you'd like to ask and we'll do our best to get those covered.
X-ALT-DESC;FMTTYPE=text/html:<p>It&#39\;s our&nbsp\; Membership Happy Hour # 8 - on Thursday\, May 13 at 2:00 p.m. ET -&nbsp\; an opportunity for all Chamber membership sales and management staff to gather and exchange information on membership experiences and best practices.<br />\n<br />\nThis month\, we&#39\;ll talk about sales - and specifically discuss<br />\n- when do we go back to resell memberships to those that left due to COVID?<br />\n- have members&#39\; expectations of a chamber changed over the last year?<br />\n<br />\nAnd as always\, your questions - please indicate when you register if there are topics you&#39\;d like to discuss or questions you&#39\;d like to ask and we&#39\;ll do our best to get those covered.<br />\n&nbsp\;<br />\n&nbsp\;</p>\n<br />\n<br />\n&nbsp\;
LOCATION:On-line
UID:e.1961.117
SEQUENCE:3
DTSTAMP:20260420T133633Z
URL:https://members.ccec.biz/events/details/ccec-membership-happy-hour-8-117
END:VEVENT

END:VCALENDAR
