BEGIN:VCALENDAR
VERSION:2.0
PRODID:-//ChamberMaster//Event Calendar 2.0//EN
METHOD:PUBLISH
X-PUBLISHED-TTL:P3D
REFRESH-INTERVAL:P3D
CALSCALE:GREGORIAN
BEGIN:VEVENT
DTSTART:20210311T190000Z
DTEND:20210311T200000Z
X-MICROSOFT-CDO-ALLDAYEVENT:FALSE
SUMMARY:CCEC Membership Happy Hour # 7 - Member Engagement
DESCRIPTION:It's our March Madness Membership Happy Hour # 7 - on Thursday\, March 11 at 2:00 p.m. ET -  an opportunity for all Chamber membership sales and management staff to gather and exchange information on membership experiences and best practices. This month's topic is Member Engagement\n\n \n\n\n\nHere's the agenda for March 11th\n\n1. Roundtable Introductions - 1 minute max per person - name\, chamber\, # of members\, how long you've been in the position\, favorite winter hot toddy\n\n\n\n2. Today's Topic - Membership Engagement - Come prepared to share this information\n\n\n	A business has joined - now what? What's your process for member engagement?\n	Does it differ depending on the size of company?\n	For medium to large businesses\, are there efforts to engage the member's employees or is the focus on the business owner?\n	What is your frequency of contact for new members in the first year?\n	Do you track why members joined?\n	Do you customize  what you deliver based on reasons for joining?\n	Any best practices\n	Share an engagement success story or one you're especially proud of\n	Your questions answered
X-ALT-DESC;FMTTYPE=text/html:<p>It&#39\;s our March Madness Membership Happy Hour # 7 - on Thursday\, March 11 at 2:00 p.m. ET -&nbsp\; an opportunity for all Chamber membership sales and management staff to gather and exchange information on membership experiences and best practices. This month&#39\;s topic is <strong>Member Engagement</strong><br />\n&nbsp\;<br />\n<br />\nHere&#39\;s the agenda for March 11th<br />\n1. Roundtable Introductions - 1 minute max per person - name\, chamber\, # of members\, how long you&#39\;ve been in the position\, favorite winter hot toddy</p>\n\n<p><br />\n2. Today&#39\;s Topic - <strong>Membership Engagement - </strong>Come prepared to share this information</p>\n\n<ul>\n	<li style="margin-top:0in\;margin-bottom:0in\;">A business has joined - now what? What&#39\;s your process for member engagement?</li>\n	<li style="margin-top:0in\;margin-bottom:0in\;">Does it differ depending on the size of company?</li>\n	<li style="margin-top:0in\;margin-bottom:0in\;">For medium to large businesses\, are there efforts to engage the member&#39\;s employees or is the focus on the business owner?</li>\n	<li style="margin-top:0in\;margin-bottom:0in\;">What is your frequency of contact for new members in the first year?</li>\n	<li style="margin-top:0in\;margin-bottom:0in\;">Do you track why members joined?</li>\n	<li style="margin-top:0in\;margin-bottom:0in\;">Do you customize&nbsp\; what you deliver based on reasons for joining?</li>\n	<li style="margin-top:0in\;margin-bottom:0in\;">Any best practices</li>\n	<li style="margin-top:0in\;margin-bottom:0in\;">Share an engagement success story or one you&rsquo\;re especially proud of</li>\n	<li style="margin-top:0in\;margin-bottom:0in\;">Your questions answered</li>\n</ul>\n<br />\n<br />\n<br />\n&nbsp\;
LOCATION:On-line
UID:e.1961.113
SEQUENCE:3
DTSTAMP:20260420T163825Z
URL:https://members.ccec.biz/events/details/ccec-membership-happy-hour-7-member-engagement-113
END:VEVENT

END:VCALENDAR
